BEGIN:VCALENDAR
VERSION:2.0
PRODID:-//ChamberMaster//Event Calendar 2.0//EN
METHOD:PUBLISH
X-PUBLISHED-TTL:P3D
REFRESH-INTERVAL:P3D
CALSCALE:GREGORIAN
BEGIN:VEVENT
DTSTART:20190802T130000Z
DTEND:20190802T213000Z
X-MICROSOFT-CDO-ALLDAYEVENT:FALSE
SUMMARY:12th Annual Women's Health Update- "Innovations in Women's Health: A Focus on Technology"
DESCRIPTION:The Office of Women's Health Advisory Committee is pleased to announce The Twelfth Annual Women's Health Update.  The theme for this year is Innovations in Women's Health: A Focus on Technology.  The event will be held on Friday\, August 2\, 2019\, 8 a.m.   4:30 p.m. at the Grandview Medical Center Auditorium in Birmingham\, Alabama. On site registration begins at 7:30 A.M.\n\n\n\nClick Here for Registration Form\n\nComplete and return to Jessa Powell.\n\n\n\nOnline Registration Available! Early Bird $50 Conference Fee extended and ends July 12th!\n\nhttps://www.adph.org/Extranet/Forms/Form.asp?ss=s&formID=7720\n\n\n\nThis program plans to award continuing education credits for:\n\n	Nursing \n	Social Work \n	Dietetics
X-ALT-DESC;FMTTYPE=text/html:<span style="font-size:16px\;"><span style="font-family:arial\;">The Office of Women&rsquo\;s Health Advisory Committee is pleased to announce The Twelfth Annual Women&rsquo\;s Health Update. &nbsp\;The theme for this year is <em>Innovations in Women&rsquo\;s Health: A Focus on Technology</em>. &nbsp\;The event will be held on Friday\, August 2\, 2019\, 8 a.m. &ndash\; 4:30 p.m. at the Grandview Medical Center Auditorium in Birmingham\, Alabama. On site registration begins at 7:30 A.M.<br />\n<br />\n<strong><a href="https://chambermaster.blob.core.windows.net/userfiles/UserFiles/chambers/1432/File/OfficeofWomensHealth-RegistrationForm20190626.pdf"><span style="color:#0000FF\;">Click Here for Registration Form</span></a></strong><br />\nComplete and return to Jessa Powell.<br />\n<br />\n<strong>Online Registration Available! Early Bird $50 Conference Fee extended and ends July 12<sup>th</sup>!</strong><br />\n<strong><a href="https://www.adph.org/Extranet/Forms/Form.asp?ss=s&amp\;formID=7720"><span style="color:#0000FF\;">https://www.adph.org/Extranet/Forms/Form.asp?ss=s&amp\;formID=7720</span></a></strong><br />\n<br />\n<strong>This program plans to award continuing education credits for:</strong></span></span>\n<ul>\n	<li><span style="font-size:16px\;"><span style="font-family:arial\;">Nursing </span></span></li>\n	<li><span style="font-size:16px\;"><span style="font-family:arial\;">Social Work </span></span></li>\n	<li><span style="font-size:16px\;"><span style="font-family:arial\;">Dietetics&nbsp\;</span></span></li>\n</ul>\n
LOCATION:Grandview Medical Center Auditorium
UID:e.1432.401261
SEQUENCE:3
DTSTAMP:20260422T053757Z
URL:http://business.etowahchamber.org/events/details/12th-annual-women-s-health-update-innovations-in-women-s-health-a-focus-on-technology-401261
END:VEVENT

END:VCALENDAR
