BEGIN:VCALENDAR
VERSION:2.0
PRODID:-//ChamberMaster//Event Calendar 2.0//EN
METHOD:PUBLISH
X-PUBLISHED-TTL:P3D
REFRESH-INTERVAL:P3D
CALSCALE:GREGORIAN
BEGIN:VEVENT
DTSTART:20190520T150000Z
DTEND:20190520T220000Z
X-MICROSOFT-CDO-ALLDAYEVENT:FALSE
SUMMARY:17th Annual MDA Charity Golf Tournament
DESCRIPTION:Gadsden Firefighters I.A.F.F. Local 454 17th Annual MDA Charity Golf Tournament\n\n*All Contributions go to MDA & Jerry's Kids*\n\n\n\nRegistration Form\n\nSponsorship Information\n\n	Platinum Level: $2\,500\n	Gold Level: $500\n	Silver Level: $400\n	Four Person Team Only: $300\n	Bronze Level: $100
X-ALT-DESC;FMTTYPE=text/html:<span style="font-size:20px\;"><span style="font-family:arial\;"><u><strong>Gadsden Firefighters I.A.F.F. Local 454 17th Annual MDA Charity Golf Tournament</strong></u><br />\n<span style="font-size:18px\;">*All Contributions go to MDA &amp\; Jerry&#39\;s Kids*<br />\n<br />\n<strong><a href="https://chambermaster.blob.core.windows.net/userfiles/UserFiles/chambers/1432/File/GadsdenFirefighters-MDATournamentForm20190329.pdf"><span style="color:#0000FF\;">Registration Form</span></a><br />\n<a href="https://chambermaster.blob.core.windows.net/userfiles/UserFiles/chambers/1432/File/GadsdenFirefighters-MDASponsorInfo20190329.pdf"><span style="color:#0000FF\;">Sponsorship Information</span></a></strong></span></span></span>\n<ul>\n	<li><span style="font-size:18px\;"><span style="font-family:arial\;"><strong>Platinum Level: $2\,500</strong></span></span></li>\n	<li><span style="font-size:18px\;"><span style="font-family:arial\;"><strong>Gold Level: $500</strong></span></span></li>\n	<li><span style="font-size:18px\;"><span style="font-family:arial\;"><strong>Silver Level: $400</strong></span></span></li>\n	<li><span style="font-size:18px\;"><span style="font-family:arial\;"><strong>Four Person Team Only: $300</strong></span></span></li>\n	<li><span style="font-size:18px\;"><span style="font-family:arial\;"><strong>Bronze Level: $100</strong></span></span></li>\n</ul>\n
LOCATION:Gadsden Country Club 1884 Rainbow Drive Gadsden\, AL 35901
UID:e.1432.400710
SEQUENCE:3
DTSTAMP:20260422T073634Z
URL:http://business.etowahchamber.org/events/details/17th-annual-mda-charity-golf-tournament-400710
END:VEVENT

END:VCALENDAR
