BEGIN:VCALENDAR
VERSION:2.0
PRODID:-//ChamberMaster//Event Calendar 2.0//EN
METHOD:PUBLISH
X-PUBLISHED-TTL:P3D
REFRESH-INTERVAL:P3D
CALSCALE:GREGORIAN
BEGIN:VEVENT
DTSTART:20130106T180000Z
DTEND:20130106T220000Z
X-MICROSOFT-CDO-ALLDAYEVENT:FALSE
SUMMARY:1st Sunday Dinner * Catered By: SKYS Restaurant
DESCRIPTION:GOL Activity Center\n\n	Presents\n\n	1STSUNDAY DINNER (Catered By SKYS Restaurant) \n\n	Join us on January 6\, 2013 for Food and Fellowship at GOL Activity Center\, 603 E. Broad Street\, Gadsden\, AL from 12noon to 4:00pm.\n\n	\n\n	Your choice of meat (Ribs or Fried Chicken)\, three vegetables\, cornbread or roll\, dessert\, and choice of tea or lemonade.\n\n	\n\n	$7.25 (under 10)\, $9.25 (w/church bulletin)\, $10.25(reg. price)\n\n	\n\n	Dine In or Carry Out!
X-ALT-DESC;FMTTYPE=text/html:<p>\n	<b><font size="5">GOL Activity Center</font></b></p>\n<p>\n	<b><i>Presents</i></b></p>\n<p>\n	<b><font size="6">1<sup><font size="5">ST</font></sup>SUNDAY<font size="5"> <em>DINNER </em>(Catered By SKYS Restaurant)</font></font><font size="5"> </font></b></p>\n<p>\n	<b><font size="5">Join us on January 6\, 2013 for Food and Fellowship at GOL Activity Center\, 603 E. Broad Street\, Gadsden\, AL from 12noon to 4:00pm.<br />\n	<br />\n	Your choice of meat (Ribs or Fried Chicken)\, three vegetables\, cornbread or roll\, dessert\, and choice of tea or lemonade.<br />\n	<br />\n	$7.25 (under 10)\, $9.25 (w/church bulletin)\, $10.25(reg. price)<br />\n	<br />\n	Dine In or Carry Out!</font></b></p>\n<p>\n	<font size="5">&nbsp\;</font></p>\n
LOCATION:603 E. Broad Street
UID:e.1432.383054
SEQUENCE:3
DTSTAMP:20260423T044012Z
URL:http://business.etowahchamber.org/events/details/1st-sunday-dinner-catered-by-skys-restaurant-01-06-2013-383054
END:VEVENT

END:VCALENDAR
