BEGIN:VCALENDAR
VERSION:2.0
PRODID:-//ChamberMaster//Event Calendar 2.0//EN
METHOD:PUBLISH
X-PUBLISHED-TTL:P3D
REFRESH-INTERVAL:P3D
CALSCALE:GREGORIAN
BEGIN:VEVENT
DTSTART:20120929T180000Z
DTEND:20120929T230000Z
X-MICROSOFT-CDO-ALLDAYEVENT:FALSE
SUMMARY:2012 Etowah County 4-H Chick Chain Show and Auction
DESCRIPTION:The 2012 Etowah County 4-H Chick Chain Show and Auction will begin at 1pm with the show and 4pm with the Auction at the VFW fairgrounds in Fort Payne.  Come out and support the 40 Etowah County 4-H members that have been raising chickens all summer by bidding on some of the best chickens in NE Alabama.  For more information contact Amy Burgess at the Etowah County Extension Office at 256-547-7936.
X-ALT-DESC;FMTTYPE=text/html:The 2012 Etowah County 4-H Chick Chain Show and Auction will begin at 1pm with the show and 4pm with the Auction at the VFW fairgrounds in Fort Payne. &nbsp\;Come out and support the 40 Etowah County 4-H members that have been raising chickens all summer by bidding on some of the best chickens in NE Alabama. &nbsp\;For more information contact Amy Burgess at the Etowah County Extension Office at 256-547-7936.
LOCATION:VFW Fairgrounds in Fort Payne
UID:e.1432.382762
SEQUENCE:3
DTSTAMP:20260422T231502Z
URL:http://business.etowahchamber.org/events/details/2012-etowah-county-4-h-chick-chain-show-and-auction-09-29-2012-382762
END:VEVENT

END:VCALENDAR
