BEGIN:VCALENDAR
VERSION:2.0
PRODID:-//ChamberMaster//Event Calendar 2.0//EN
METHOD:PUBLISH
X-PUBLISHED-TTL:P3D
REFRESH-INTERVAL:P3D
CALSCALE:GREGORIAN
BEGIN:VEVENT
DTSTART:20130221T010000Z
DTEND:20130221T030000Z
X-MICROSOFT-CDO-ALLDAYEVENT:FALSE
SUMMARY:2013 Black History Month Film Festival
DESCRIPTION:The 2013 Black History Month Film Festival is a joint project between the Gadsden Public Library and Gadsden State. Admission is free. The SGA will be providing popcorn and soda to make the movie experience complete.\n\nWednesday\, February 20: 7:00 p.m.\, The Pursuit of Happyness
X-ALT-DESC;FMTTYPE=text/html:<span itemprop="description"><span class="fsl">The 2013 Black History Month Film Festival is a joint project between the Gadsden Public Library and Gadsden State. Admission is free. The SGA will be providing popcorn and soda to make the movie experience complete.<br />\nWednesday\, February 20: 7:00 p.m.\, The Pursuit of Happyness</span></span>
LOCATION:Wallace Hall Fine Arts Center
UID:e.1432.383102
SEQUENCE:3
DTSTAMP:20260423T061046Z
URL:http://business.etowahchamber.org/events/details/2013-black-history-month-film-festival-02-20-2013-383102
END:VEVENT

END:VCALENDAR
