BEGIN:VCALENDAR
VERSION:2.0
PRODID:-//ChamberMaster//Event Calendar 2.0//EN
METHOD:PUBLISH
X-PUBLISHED-TTL:P3D
REFRESH-INTERVAL:P3D
CALSCALE:GREGORIAN
BEGIN:VEVENT
DTSTART:20120728T170000Z
DTEND:20120728T230000Z
X-MICROSOFT-CDO-ALLDAYEVENT:FALSE
SUMMARY:2nd Annual UA Local 498 Charity Event Ice Cream Taste Off
DESCRIPTION:2nd Annual UA Local 498 Charity Event\n\nIce Cream Taste Off\n\nnoon-6 p.m.\n\n3803 W Meighan Blvd\n\nTO BENEFIT THE UNITED WAY OF ETOWAH COUNTY    \n\nFor more information contact Garry Frost - 256-546-6791
X-ALT-DESC;FMTTYPE=text/html:2nd Annual UA Local 498 Charity Event<br />\nIce Cream Taste Off<br />\nnoon-6 p.m.<br />\n3803 W Meighan Blvd<br />\nTO BENEFIT THE UNITED WAY OF ETOWAH COUNTY&nbsp\;&nbsp\;&nbsp\;&nbsp\;<br />\nFor more information contact Garry Frost - 256-546-6791
LOCATION:3803 W Meighan Blvd
UID:e.1432.381553
SEQUENCE:3
DTSTAMP:20260422T204838Z
URL:http://business.etowahchamber.org/events/details/2nd-annual-ua-local-498-charity-event-ice-cream-taste-off-07-28-2012-381553
END:VEVENT

END:VCALENDAR
