BEGIN:VCALENDAR
VERSION:2.0
PRODID:-//ChamberMaster//Event Calendar 2.0//EN
METHOD:PUBLISH
X-PUBLISHED-TTL:P3D
REFRESH-INTERVAL:P3D
CALSCALE:GREGORIAN
BEGIN:VEVENT
DTSTART:20121107T170000Z
DTEND:20121107T190000Z
X-MICROSOFT-CDO-ALLDAYEVENT:FALSE
SUMMARY:38th Annual Patriots Day Luncheon
DESCRIPTION:This is the 38th annual Patriots Day Luncheon at Convention Hall. Doors open at 11am and the program begins at 11:45am. The program will end at 1pm\, and if you want you may ride a shuttle\, which is being provided by the City of Gadsden to Broad Street for the Patriots Day Parade which begins at 1:45.\n\nTickets for the luncheon are $10.00 each and can be purchased at our office which is located in the Gadsden Amphitheatre(342 South 1st Street). This year there are 14 inductees into the Patriots Hall of Honor\, with a special class of 10 inductees which are part of The Greatest Generation World War II Veterans along with 4 other inductees who were nominated by individuals in the community and were selected by special committee to be honored this year. The speaker this year will be LTC Herbert Carter\, who was a Tuskegee Airman during WWII with 77 combat missions. Joining LTC Carter is Colonel Roosevelt Joseph Lewis\, Jr. who Graduated from Tuskegee Institute and had gone on to work several positions for the Department of Defense. There are alot more that can be said about these two great men who have done alot for their country.\n\n\n\nPlease come out and celebrate Patriots Day with us on November 7th.
X-ALT-DESC;FMTTYPE=text/html:This is the 38th annual Patriots Day Luncheon at Convention Hall. Doors open at 11am and the program begins at 11:45am. The program will end at 1pm\, and if you want you may ride a shuttle\, which is being provided by the City of Gadsden to Broad Street for the Patriots Day Parade which begins at 1:45.<br />\nTickets for the luncheon are $10.00 each and can be purchased at our office which is located in the Gadsden Amphitheatre(342 South 1st Street). This year there are 14 inductees into the Patriots Hall of Honor\, with a special class of 10 inductees which are part of The Greatest&nbsp\;Generation World War II Veterans&nbsp\;along with 4 other inductees who were nominated by individuals in the community and were selected by special committee to be honored this year. The speaker this year will be LTC Herbert Carter\, who was a Tuskegee Airman during WWII with 77 combat missions. Joining LTC Carter is Colonel Roosevelt Joseph Lewis\, Jr. who Graduated from Tuskegee Institute and had gone on to work several positions for the Department of Defense. There are alot more that can be said about these two great men who have done alot for their country.<br />\n<br />\nPlease come out and celebrate Patriots Day with us on November 7th.<br />\n<br />\n
LOCATION:Gadsden Convention Hall
UID:e.1432.382806
SEQUENCE:3
DTSTAMP:20260423T020128Z
URL:http://business.etowahchamber.org/events/details/38th-annual-patriots-day-luncheon-11-07-2012-382806
END:VEVENT

END:VCALENDAR
