BEGIN:VCALENDAR
VERSION:2.0
PRODID:-//ChamberMaster//Event Calendar 2.0//EN
METHOD:PUBLISH
X-PUBLISHED-TTL:P3D
REFRESH-INTERVAL:P3D
CALSCALE:GREGORIAN
BEGIN:VEVENT
DTSTART:20200919T120000Z
DTEND:20200919T140000Z
X-MICROSOFT-CDO-ALLDAYEVENT:FALSE
SUMMARY:3rd Annual 5K Range Run at CMP Talladega
DESCRIPTION:We are officially hosting the 3rd Annual 5k Range Run at the Talladega Marksmanship Park! Social Distancing and staggered starts are new this year.\n\n\n\nAs part of the Anniston Runners Club Challenge Series\, this USATF certified 5K run is on a rolling 500-acre park just minutes off I-20 at 4387 Turner Mill Road\, Talladega\, AL 35160. The races benefit CMP Youth Marksmanship Programs & the Presbyterian Home for Children.\n\n\n\nThe entry fee is $18 before September 1st or $25 afterwards. The entry fee for members of the Military & family\, Anniston Runners Club & Gadsden Runners Club is $15.  No discounts after September 1st.  T-Shirts are guaranteed only if registered before September 10th.  The entry fee for 1K Fun Run is $5.\n\n\n\nPacket Pickup \n\n	Available September 17th from 8:00 AM- 7:00 PM at 1470 Sentinel Drive\, Anniston\, AL 36207\n	CMP Talladega on September 18th 9:00 AM- 5:00 PM and race day on the 19th from 6:00- 6:30 AM.\n\nFor more information please email (M-F): bjones@thecmp.org or mcamp@thecmp.org\n\n\n\nPlease note- race fees are non-refundable.  The amount will be treated as a donation.
X-ALT-DESC;FMTTYPE=text/html:<span style="font-size:16px\;"><span style="font-family:arial\;">We are officially hosting the 3rd Annual 5k Range Run at the Talladega Marksmanship Park!&nbsp\;Social Distancing and staggered starts are new this year.<br />\n<br />\nAs part of the Anniston Runners Club Challenge Series\, this USATF certified 5K run is on a rolling 500-acre park just minutes off I-20 at 4387 Turner Mill Road\, Talladega\, AL 35160. The races benefit CMP Youth Marksmanship Programs &amp\; the Presbyterian Home for Children.<br />\n<br />\nThe entry fee is $18 before September 1st or $25 afterwards. The entry fee for members of the Military &amp\; family\, Anniston Runners Club &amp\; Gadsden Runners Club is $15.&nbsp\; No discounts after September 1st.&nbsp\; T-Shirts are guaranteed only if registered before September 10th.&nbsp\; The entry fee for 1K Fun Run is $5.<br />\n<br />\n<u><strong>Packet Pickup</strong></u>&nbsp\;</span></span>\n<ul>\n	<li><span style="font-size:16px\;"><span style="font-family:arial\;">Available September 17th from 8:00 AM- 7:00 PM at 1470 Sentinel Drive\, Anniston\, AL 36207</span></span></li>\n	<li><span style="font-size:16px\;"><span style="font-family:arial\;">CMP Talladega on September 18th 9:00 AM- 5:00 PM and race day on the 19th from 6:00- 6:30 AM.</span></span></li>\n</ul>\n<span style="font-size:16px\;"><span style="font-family:arial\;"><strong>For more information please email (M-F):</strong> <strong><a href="mailto:bjones@thecmp.org"><span style="color:#0000FF\;">bjones@thecmp.org</span></a></strong> or <strong><a href="mailto:mcamp@thecmp.org"><span style="color:#0000FF\;">mcamp@thecmp.org</span></a></strong><br />\n<br />\n<em><strong>Please note- race fees are non-refundable.&nbsp\; The amount will be treated as a donation.</strong></em></span></span>
LOCATION:CMP Talladega Marksmanship Park
UID:e.1432.403274
SEQUENCE:3
DTSTAMP:20260419T153341Z
URL:http://business.etowahchamber.org/events/details/3rd-annual-5k-range-run-at-cmp-talladega-403274
END:VEVENT

END:VCALENDAR
