BEGIN:VCALENDAR
VERSION:2.0
PRODID:-//ChamberMaster//Event Calendar 2.0//EN
METHOD:PUBLISH
X-PUBLISHED-TTL:P3D
REFRESH-INTERVAL:P3D
CALSCALE:GREGORIAN
BEGIN:VEVENT
DTSTART:20130928T170000Z
DTEND:20130929T030000Z
X-MICROSOFT-CDO-ALLDAYEVENT:FALSE
SUMMARY:49th Annual Mid-South Marching Band Festival
DESCRIPTION:The 49th Annual Mid-South Marching Band Festival at Titan Stadium\, Gadsden City High School\, Gadsden\, Alabama on September 28\, 2013. Mid-South was founded by Rip Reagan in 1964. From the beginning\, bands from every area of the southeastern United States have traveled to Gadsden\, Alabama for a single day of competition. Last year's competition presented shows ranging from the Broadway\, to Hard Rock Cafe. This year will doubtless provide an equal assortment of entertainment. Make plans to join us at this year's 49th Annual Mid-South Marching Band Festival\, September 28 beginning at noon. \n\n	 \n\n	 \n\n	Jacksonville State Marching Southerners to perform in exhibition at the 49th annual Mid South Marching Festival.\n\n	\n\n	Schedule of Bands: http://vgicom.net/gchsband/MidSouth/2013%20Mid%20South%20Schedule.pdf
X-ALT-DESC;FMTTYPE=text/html:<div>\n	The 49th Annual Mid-South Marching Band Festival at Titan Stadium\, Gadsden City High School\, Gadsden\, Alabama on September 28\, 2013. Mid-South was founded by Rip Reagan in 1964. From the beginning\, bands from every area of the southeastern United States have traveled to Gadsden\, Alabama for a single day of competition. Last year&#39\;s competition presented shows ranging from the Broadway\, to Hard Rock Cafe. This year will doubtless provide an equal assortment of entertainment. Make plans to join us at this year&#39\;s 49th Annual Mid-South Marching Band Festival\, September 28 beginning at noon.&nbsp\;</div>\n<div>\n	&nbsp\;</div>\n<div>\n	&nbsp\;</div>\n<div>\n	Jacksonville State Marching Southerners to perform in exhibition at the 49th annual Mid South Marching Festival.<br />\n	<br />\n	Schedule of Bands:&nbsp\;<a href="http://vgicom.net/gchsband/MidSouth/2013%20Mid%20South%20Schedule.pdf" target="_blank">http://vgicom.net/gchsband/MidSouth/2013%20Mid%20South%20Schedule.pdf</a></div>\n
LOCATION:Gadsden City High School Titan Stadium
UID:e.1432.384122
SEQUENCE:3
DTSTAMP:20260423T064725Z
URL:http://business.etowahchamber.org/events/details/49th-annual-mid-south-marching-band-festival-09-28-2013-384122
END:VEVENT

END:VCALENDAR
