BEGIN:VCALENDAR
VERSION:2.0
PRODID:-//ChamberMaster//Event Calendar 2.0//EN
METHOD:PUBLISH
X-PUBLISHED-TTL:P3D
REFRESH-INTERVAL:P3D
CALSCALE:GREGORIAN
BEGIN:VEVENT
DTSTART:20140927T170000Z
DTEND:20140927T210000Z
X-MICROSOFT-CDO-ALLDAYEVENT:FALSE
SUMMARY:50th Annual Mid-South Marching Band Festival
DESCRIPTION:Mid South Marching Festival: The 50th Annual Mid South Marching Festival. For the 50th year school marching bands from across the southeastern United States will descend on Gadsden\, Alabama for one day of competition. Bands will present a half-time field performance of their choosing. In past years the assortment of programs has span a broad array of themes\, from western rodeo to Broadway plays\, crowds have been entertained. other info: Held at Titan Stadium\, the event typically brings more than 10\,000 out-of towners to Gadsden each year. This is the 50th annual Mid South. Other information is available on the WEB Page: http://vgicom.net/gchsband/MidSouth/MidSouth_2011.html or you may call me and I will direct you or have the appropriate person contact you. This is the primary fund raising event for the Titan Bands program each year\, we need your support.
X-ALT-DESC;FMTTYPE=text/html:<span style="font-family:arial\,sans-serif\;"><span style="font-size:10.0pt\;">Mid South Marching Festival: The 50th Annual Mid South Marching Festival. For the 50th year school marching bands from across the southeastern United States will descend on Gadsden\, Alabama for one day of competition. Bands will present a half-time field performance of their choosing. In past years the assortment of programs has span a broad array of themes\, from western rodeo to Broadway plays\, crowds have been entertained. other info: Held at Titan Stadium\, the event typically brings more than 10\,000 out-of towners to Gadsden each year. This is the 50th annual Mid South. Other information is available on the WEB Page: <a href="http://vgicom.net/gchsband/MidSouth/MidSouth_2011.html">http://vgicom.net/gchsband/MidSouth/MidSouth_2011.html</a> or you may call me and I will direct you or have the appropriate person contact you. This is the primary fund raising event for the Titan Bands program each year\, we need your support.</span></span>
LOCATION:Gadsden City High School
UID:e.1432.384268
SEQUENCE:3
DTSTAMP:20260422T143932Z
URL:http://business.etowahchamber.org/events/details/50th-annual-mid-south-marching-band-festival-09-27-2014-384268
END:VEVENT

END:VCALENDAR
