BEGIN:VCALENDAR
VERSION:2.0
PRODID:-//ChamberMaster//Event Calendar 2.0//EN
METHOD:PUBLISH
X-PUBLISHED-TTL:P3D
REFRESH-INTERVAL:P3D
CALSCALE:GREGORIAN
BEGIN:VEVENT
DTSTART:20181111T140000Z
DTEND:20181111T150000Z
X-MICROSOFT-CDO-ALLDAYEVENT:FALSE
SUMMARY:5th Annual Veterans Day Memorial Walk
DESCRIPTION:We will assemble in front of the old Federal building at 8:00 AM and at 8:30AM we will have a prayer then Play TAPS. We will then cross Broad Street and walk up the sidewalk to the old bus station just past the old Sears building.\n\n\n\nAll Veterans and active duty are welcomed to walk also any family members who wish to participate. If you have any family you wish to walk for come on bring a picture if you wish. This will be rain or shine.
X-ALT-DESC;FMTTYPE=text/html:<span style="font-size:16px\;"><span style="font-family:arial\;">We will assemble in front of the old Federal building at 8:00 AM and at 8:30AM we will have a prayer then Play TAPS. We will then cross Broad Street and walk up the sidewalk to the old bus station just past the old Sears building.<br />\n<br />\nAll Veterans and active duty are welcomed to walk also any family members who wish to participate. If you have any family you wish to walk for come on bring a picture if you wish. This will be rain or shine.</span></span>
LOCATION:600 West Broad Street Gadsden\, AL 35901
UID:e.1432.398329
SEQUENCE:3
DTSTAMP:20260422T165956Z
URL:http://business.etowahchamber.org/events/details/5th-annual-veterans-day-memorial-walk-398329
END:VEVENT

END:VCALENDAR
