BEGIN:VCALENDAR
VERSION:2.0
PRODID:-//ChamberMaster//Event Calendar 2.0//EN
METHOD:PUBLISH
X-PUBLISHED-TTL:P3D
REFRESH-INTERVAL:P3D
CALSCALE:GREGORIAN
BEGIN:VEVENT
DTSTART;VALUE=DATE:20140923
DTEND;VALUE=DATE:20140928
TRANSP:TRANSPARENT
X-MICROSOFT-CDO-ALLDAYEVENT:TRUE
SUMMARY:75th Annual Etowah County Fair
DESCRIPTION:
X-ALT-DESC;FMTTYPE=text/html:
LOCATION:Etowah County Fairgrounds Cleveland Avenue\, Attalla\, AL 35954
UID:e.1432.384266
SEQUENCE:3
DTSTAMP:20260422T143700Z
URL:http://business.etowahchamber.org/events/details/75th-annual-etowah-county-fair-09-23-2014-384266
END:VEVENT

END:VCALENDAR
