BEGIN:VCALENDAR
VERSION:2.0
PRODID:-//ChamberMaster//Event Calendar 2.0//EN
METHOD:PUBLISH
X-PUBLISHED-TTL:P3D
REFRESH-INTERVAL:P3D
CALSCALE:GREGORIAN
BEGIN:VEVENT
DTSTART;VALUE=DATE:20140426
DTEND;VALUE=DATE:20140428
TRANSP:TRANSPARENT
X-MICROSOFT-CDO-ALLDAYEVENT:TRUE
SUMMARY:7th Annual City of Gadsden Coosa Landing Super Bass Tournament
DESCRIPTION:7th Annual City of Gadsden Coosa Landing Super Bass Tournament
X-ALT-DESC;FMTTYPE=text/html:7th Annual City of Gadsden Coosa Landing Super Bass Tournament
LOCATION:Coosa Landing 200 Lakefront St\, Gadsden\, AL 35904
UID:e.1432.384454
SEQUENCE:3
DTSTAMP:20260422T211407Z
URL:http://business.etowahchamber.org/events/details/7th-annual-city-of-gadsden-coosa-landing-super-bass-tournament-04-26-2014-384454
END:VEVENT

END:VCALENDAR
