BEGIN:VCALENDAR
VERSION:2.0
PRODID:-//ChamberMaster//Event Calendar 2.0//EN
METHOD:PUBLISH
X-PUBLISHED-TTL:P3D
REFRESH-INTERVAL:P3D
CALSCALE:GREGORIAN
BEGIN:VEVENT
DTSTART:20201018T140000Z
DTEND:20201018T220000Z
X-MICROSOFT-CDO-ALLDAYEVENT:FALSE
SUMMARY:7th Annual Noccalula Falls Powwow
DESCRIPTION:Come and enjoy the Traditions of the Native Americans. and songs of our ancestors. Hand Sanitizer will be available at several locations.\n\n\n\nMeet Miss Indian Alabama\, Miss Mallory Gibson\, State representative of the Native Americans. Hoop Dancing by Lyndon Alec. He has performed worldwide. Hoop Dancing is the most difficult of the Native American dances. Native Flute playing by a premier Flute maker and player\, Charlie Mato-Toyela. He has several Flute videos on YouTube under BlueBear Flutes.\n\n\n\nOn site will be Cabot Barden\, author of several books on the Native Americans and a musician/song-writer. Also on site is John T Wayne\, Grandson of the 'Duke' and Civil War Buff. Craft Vendors with their hand-made items will be available. Demonstrations and lessons in Archery\, demonstrations in Flint-Knapping and Flute making. Native American drumming by 'Walking Thunder' and dancing. Fry Bread\, BBQ\, Shaved Ice\, soda and Lemonade will be available. All Drums and Dancers welcome\, free of charge.\n\n\n\nMC=Ken Dixon\, Arena Director=Bob Upton\, Gate=David Langford\, Head Man=Johnny Rains\, Head Lady=Alyssa Quimby\, Drum=Walking Thunder Event is: Sat\, Sun Audience: All Welcome Category: Festival
X-ALT-DESC;FMTTYPE=text/html:<span style="font-size:16px\;"><span style="font-family:arial\;">Come and enjoy the Traditions of the Native Americans. and songs of our ancestors. Hand Sanitizer will be available at several locations.<br />\n<br />\nMeet Miss Indian Alabama\, Miss Mallory Gibson\, State representative of the Native Americans. Hoop Dancing by Lyndon Alec. He has performed worldwide. Hoop Dancing is the most difficult of the Native American dances. Native Flute playing by a premier Flute maker and player\, Charlie Mato-Toyela. He has several Flute videos on YouTube under BlueBear Flutes.<br />\n<br />\nOn site will be Cabot Barden\, author of several books on the Native Americans and a musician/song-writer. Also on site is John T Wayne\, Grandson of the &#39\;Duke&#39\; and Civil War Buff. Craft Vendors with their hand-made items will be available. Demonstrations and lessons in Archery\, demonstrations in Flint-Knapping and Flute making. Native American drumming by &#39\;Walking Thunder&#39\; and dancing. Fry Bread\, BBQ\, Shaved Ice\, soda and Lemonade will be available. All Drums and Dancers welcome\, free of charge.<br />\n<br />\nMC=Ken Dixon\, Arena Director=Bob Upton\, Gate=David Langford\, Head Man=Johnny Rains\, Head Lady=Alyssa Quimby\, Drum=Walking Thunder Event is: Sat\, Sun Audience: All Welcome Category: Festival</span></span>
LOCATION:Noccalula Park
UID:e.1432.403448
SEQUENCE:3
DTSTAMP:20260421T081454Z
URL:http://business.etowahchamber.org/events/details/7th-annual-noccalula-falls-powwow-10-18-2020-403448
END:VEVENT

END:VCALENDAR
