BEGIN:VCALENDAR
VERSION:2.0
PRODID:-//ChamberMaster//Event Calendar 2.0//EN
METHOD:PUBLISH
X-PUBLISHED-TTL:P3D
REFRESH-INTERVAL:P3D
CALSCALE:GREGORIAN
BEGIN:VEVENT
DTSTART:20141214T013000Z
DTEND:20141214T033000Z
X-MICROSOFT-CDO-ALLDAYEVENT:FALSE
SUMMARY:A Christmas Story- The Musical
DESCRIPTION:CharActers Theatrics and Gadsden State Community College with Jefferson's Proudly Present: A Christmas Story- The Musical\n\nAdult- $12\n\nStudents/Seniors- $10
X-ALT-DESC;FMTTYPE=text/html:<strong><u>CharActers Theatrics and Gadsden State Community College with Jefferson&#39\;s Proudly&nbsp\;Present: A Christmas Story- The Musical</u></strong><br />\nAdult- $12<br />\nStudents/Seniors- $10
LOCATION:Wallace Hall Fine Arts Center
UID:e.1432.385400
SEQUENCE:3
DTSTAMP:20260422T105630Z
URL:http://business.etowahchamber.org/events/details/a-christmas-story-the-musical-12-13-2014-385400
END:VEVENT

END:VCALENDAR
