BEGIN:VCALENDAR
VERSION:2.0
PRODID:-//ChamberMaster//Event Calendar 2.0//EN
METHOD:PUBLISH
X-PUBLISHED-TTL:P3D
REFRESH-INTERVAL:P3D
CALSCALE:GREGORIAN
BEGIN:VEVENT
DTSTART:20140619T150000Z
DTEND:20140619T190000Z
X-MICROSOFT-CDO-ALLDAYEVENT:FALSE
SUMMARY:A Healthy Hawaiian Health Fair
DESCRIPTION:Health screenings\, health education\, door prizes\, fun\, fellowship\, and a lot more!! Special guest ABC 33/40 Meteorologist Meaghan Thomas and surprise guest Aubie of the Auburn Tigers will be there!!
X-ALT-DESC;FMTTYPE=text/html:Health screenings\, health education\, door prizes\, fun\, fellowship\, and a lot more!! Special guest ABC 33/40 Meteorologist Meaghan Thomas and surprise guest Aubie of the Auburn Tigers will be there!!
LOCATION:CACC Alexander City Campus (Betty Carol Graham Center) 1675 Cherokee Road Alexander City\, AL 35010
UID:e.1432.384676
SEQUENCE:3
DTSTAMP:20260422T195335Z
URL:http://business.etowahchamber.org/events/details/a-healthy-hawaiian-health-fair-06-19-2014-384676
END:VEVENT

END:VCALENDAR
