BEGIN:VCALENDAR
VERSION:2.0
PRODID:-//ChamberMaster//Event Calendar 2.0//EN
METHOD:PUBLISH
X-PUBLISHED-TTL:P3D
REFRESH-INTERVAL:P3D
CALSCALE:GREGORIAN
BEGIN:VEVENT
DTSTART:20190507T220000Z
DTEND:20190508T010000Z
X-MICROSOFT-CDO-ALLDAYEVENT:FALSE
SUMMARY:A Night at the Shelter Open House at Salvation Army
DESCRIPTION:We assist the community by providing Shelter\, Hot Meals\, Groceries\, Clothing\, Utilities & Rent (when funds are available)\, Case Management\, Christmas toys\, Disaster Services. Come learn more at A Night at the Shelter to learn more about your local Salvation Army!
X-ALT-DESC;FMTTYPE=text/html:<span style="font-size:16px\;"><span style="font-family:arial\;">We assist the community by providing Shelter\, Hot Meals\, Groceries\, Clothing\, Utilities &amp\; Rent (when funds are available)\, Case Management\, Christmas toys\, Disaster Services. Come learn more at A Night at the Shelter to learn more about your local Salvation Army!</span></span>
LOCATION:Salvation Army- Gadsden 114 North 11th Street Gadsden\, AL 35901
UID:e.1432.401053
SEQUENCE:3
DTSTAMP:20260422T072839Z
URL:http://business.etowahchamber.org/events/details/a-night-at-the-shelter-open-house-at-salvation-army-401053
END:VEVENT

END:VCALENDAR
