BEGIN:VCALENDAR
VERSION:2.0
PRODID:-//ChamberMaster//Event Calendar 2.0//EN
METHOD:PUBLISH
X-PUBLISHED-TTL:P3D
REFRESH-INTERVAL:P3D
CALSCALE:GREGORIAN
BEGIN:VEVENT
DTSTART:20141012T190000Z
DTEND:20141012T220000Z
X-MICROSOFT-CDO-ALLDAYEVENT:FALSE
SUMMARY:A Walk Through Time
DESCRIPTION:We invite you to take a step back in time to meet some of Etowah County's most memorable residents.  You will hear their personal stories told by modern day citizens clad in period dress as you stroll from gravesite to gravesite.  Many of the portrayers are actual descendants of the individuals whose stories they tell.\n\nAdmission is "donations only" with the proceeds being used to preserve the history and dignity of Forrest Cemetery.\n\nParking will be at the old Gadsden High School and trolley service is available from there to the main gate of Forrest Cemetery.   Trolleys will also return patrons to the school parking lot.\n\nA limited number of golf cart shuttles will be available inside the cemetery for those who might need them.  These golf carts will stop at the shuttle stop marked on the maps available to patrons as they enter the cemetery.
X-ALT-DESC;FMTTYPE=text/html:<p style="margin: 0px 0px 11px\; text-align: center\; color: rgb(148\, 138\, 118)\; font-family: 'Times New Roman'\; font-size: 14px\; line-height: 22px\; background-color: rgb(255\, 253\, 251)\;"><span style="color:#000000\;"><span style="font-family:arial\;">We invite you to take a step back in time to meet some of Etowah County&rsquo\;s most memorable residents.&nbsp\; You will hear their personal stories told by modern day citizens clad in period dress as you stroll from gravesite to gravesite.&nbsp\; Many of the portrayers are actual descendants of the individuals whose stories they tell.</span></span></p>\n\n<p style="margin: 0px 0px 11px\; text-align: center\; color: rgb(148\, 138\, 118)\; font-family: 'Times New Roman'\; font-size: 14px\; line-height: 22px\; background-color: rgb(255\, 253\, 251)\;"><span style="color:#000000\;"><span style="font-family:arial\;">Admission is &ldquo\;donations only&rdquo\; with the proceeds being used to preserve the history and dignity of Forrest Cemetery.</span></span></p>\n\n<p style="margin: 0px 0px 11px\; text-align: center\; color: rgb(148\, 138\, 118)\; font-family: 'Times New Roman'\; font-size: 14px\; line-height: 22px\; background-color: rgb(255\, 253\, 251)\;"><span style="color:#000000\;"><span style="font-family:arial\;">Parking will be at the old Gadsden High School and trolley service is available from there to the main gate of Forrest Cemetery.&nbsp\;&nbsp\; Trolleys will also return patrons to the school parking lot.</span></span></p>\n\n<p style="margin: 0px 0px 11px\; text-align: center\; color: rgb(148\, 138\, 118)\; font-family: 'Times New Roman'\; font-size: 14px\; line-height: 22px\; background-color: rgb(255\, 253\, 251)\;"><span style="color:#000000\;"><span style="font-family:arial\;">A limited number of golf cart shuttles will be available inside the cemetery for those who might need them.&nbsp\; These golf carts will stop at the shuttle stop marked on the maps available to patrons as they enter the cemetery.</span></span></p>\n
LOCATION:Forrest Cemetery 700 South 15th Street Gadsden\, AL 35901
UID:e.1432.384191
SEQUENCE:3
DTSTAMP:20260422T131524Z
URL:http://business.etowahchamber.org/events/details/a-walk-through-time-10-12-2014-384191
END:VEVENT

END:VCALENDAR
