BEGIN:VCALENDAR
VERSION:2.0
PRODID:-//ChamberMaster//Event Calendar 2.0//EN
METHOD:PUBLISH
X-PUBLISHED-TTL:P3D
REFRESH-INTERVAL:P3D
CALSCALE:GREGORIAN
BEGIN:VEVENT
DTSTART:20140424T140000Z
DTEND:20140424T203000Z
X-MICROSOFT-CDO-ALLDAYEVENT:FALSE
SUMMARY:AARP Defensive Driving Course
DESCRIPTION:
X-ALT-DESC;FMTTYPE=text/html:
LOCATION:Regency Point 501 E. Grand Ave. Rainbow City\, AL 35906
UID:e.1432.384395
SEQUENCE:3
DTSTAMP:20260422T210839Z
URL:http://business.etowahchamber.org/events/details/aarp-defensive-driving-course-04-24-2014-384395
END:VEVENT

END:VCALENDAR
