BEGIN:VCALENDAR
VERSION:2.0
PRODID:-//ChamberMaster//Event Calendar 2.0//EN
METHOD:PUBLISH
X-PUBLISHED-TTL:P3D
REFRESH-INTERVAL:P3D
CALSCALE:GREGORIAN
BEGIN:VEVENT
DTSTART:20121013T110000Z
DTEND:20121013T190000Z
X-MICROSOFT-CDO-ALLDAYEVENT:FALSE
SUMMARY:Absolute Fitness "Absolutely Running for a Cure"
DESCRIPTION:Absolute Fitness will host "Absolutely Running for a Cure"\, third annual 5K Run/1 Mile Family Fun Run/Walk to benefit the Susan G. Komen Run for the Cure and Never Surrender.  Registration is from 6am-7:30am.  The run begins at 8am.  Early registration (before Sept 27th) is $20.  Registration for the Family Fun Run/Walk is $2.  For more information contact Teresa Taylor at 256-413-8220 or aabsolutefitness@ymail.com.
X-ALT-DESC;FMTTYPE=text/html:Absolute Fitness will host<strong> &quot\;Absolutely Running for a Cure&quot\;</strong>\, third annual 5K&nbsp\;Run/1 Mile Family Fun Run/Walk to benefit the Susan G. Komen&nbsp\;Run for the Cure and Never Surrender. &nbsp\;Registration is from 6am-7:30am. &nbsp\;The run begins at 8am. &nbsp\;Early registration (before Sept 27th) is $20. &nbsp\;Registration for the Family Fun Run/Walk is $2. &nbsp\;For more information contact Teresa Taylor at 256-413-8220 or aabsolutefitness@ymail.com.
LOCATION:Absolute Fitness
UID:e.1432.382763
SEQUENCE:3
DTSTAMP:20260423T003955Z
URL:http://business.etowahchamber.org/events/details/absolute-fitness-absolutely-running-for-a-cure-10-13-2012-382763
END:VEVENT

END:VCALENDAR
