BEGIN:VCALENDAR
VERSION:2.0
PRODID:-//ChamberMaster//Event Calendar 2.0//EN
METHOD:PUBLISH
X-PUBLISHED-TTL:P3D
REFRESH-INTERVAL:P3D
CALSCALE:GREGORIAN
BEGIN:VEVENT
DTSTART:20141030T160000Z
DTEND:20141030T180000Z
X-MICROSOFT-CDO-ALLDAYEVENT:FALSE
SUMMARY:Advanced Imaging Supports Breast Cancer Awareness Month
DESCRIPTION:Free Awareness/Detection Information\n	Free Clinical Breast Exams\n	Door Prizes\n	Lowest Price of the year on Mammograms\n	Self-Educational Opportunities\n\nFree Gifts for every mammogram patient for the entire month!\n\n\n\nNever Surrender's Bras for the Cause Bra Display Day!\n\nContest winners will be announced at 1:00 P.M.
X-ALT-DESC;FMTTYPE=text/html:<ul>\n	<li>Free Awareness/Detection Information</li>\n	<li>Free Clinical Breast Exams</li>\n	<li>Door Prizes</li>\n	<li>Lowest Price of the year on Mammograms</li>\n	<li>Self-Educational Opportunities</li>\n</ul>\nFree Gifts for every mammogram patient for the entire month!<br />\n<br />\nNever Surrender&#39\;s Bras for the Cause Bra Display Day!<br />\nContest winners will be announced at 1:00 P.M.
LOCATION:Advanced Imaging of Gadsden 820 South 4th Street Gadsden\, AL 35901
UID:e.1432.385031
SEQUENCE:3
DTSTAMP:20260422T132249Z
URL:http://business.etowahchamber.org/events/details/advanced-imaging-supports-breast-cancer-awareness-month-10-30-2014-385031
END:VEVENT

END:VCALENDAR
