BEGIN:VCALENDAR
VERSION:2.0
PRODID:-//ChamberMaster//Event Calendar 2.0//EN
METHOD:PUBLISH
X-PUBLISHED-TTL:P3D
REFRESH-INTERVAL:P3D
CALSCALE:GREGORIAN
BEGIN:VEVENT
DTSTART:20200416T190000Z
DTEND:20200416T200000Z
X-MICROSOFT-CDO-ALLDAYEVENT:FALSE
SUMMARY:Advancing Women to the Top Web Meeting
DESCRIPTION:Join us for the first meeting to discuss the 2020 Advancing Women to the Top Conference! \n\n\n\nAdvancing Women to the Top Committee Meeting\n\nThu\, Apr 16\, 2020 2:00 PM - 3:30 PM (CDT)\n\n\n\nPlease join my meeting from your computer\, tablet or smartphone.\n\nhttps://global.gotomeeting.com/join/372231949\n\n\n\nYou can also dial in using your phone.\n\nUnited States: +1 (571) 317-3122\n\n\n\nAccess Code: 372-231-949\n\n\n\nNew to GoToMeeting? Get the app now and be ready when your first meeting starts:\n\nhttps://global.gotomeeting.com/install/372231949
X-ALT-DESC;FMTTYPE=text/html:Join us for the first meeting to discuss the 2020 Advancing Women to the Top Conference!&nbsp\;<br />\n<br />\n<span class="inv-subject" style="color: rgb(37\, 40\, 45)\; font-family: lato-regular\, &quot\;Helvetica Neue&quot\;\, Helvetica\, Arial\, sans-serif\; font-size: 14px\;">Advancing Women to the Top Committee Meeting</span><br style="color: rgb(37\, 40\, 45)\; font-family: lato-regular\, &quot\;Helvetica Neue&quot\;\, Helvetica\, Arial\, sans-serif\; font-size: 14px\;" />\n<span class="inv-date" style="color: rgb(37\, 40\, 45)\; font-family: lato-regular\, &quot\;Helvetica Neue&quot\;\, Helvetica\, Arial\, sans-serif\; font-size: 14px\;">Thu\, Apr 16\, 2020 2:00 PM - 3:30 PM (CDT)</span><br style="color: rgb(37\, 40\, 45)\; font-family: lato-regular\, &quot\;Helvetica Neue&quot\;\, Helvetica\, Arial\, sans-serif\; font-size: 14px\;" />\n<br style="color: rgb(37\, 40\, 45)\; font-family: lato-regular\, &quot\;Helvetica Neue&quot\;\, Helvetica\, Arial\, sans-serif\; font-size: 14px\;" />\n<b style="color: rgb(37\, 40\, 45)\; font-family: lato-regular\, &quot\;Helvetica Neue&quot\;\, Helvetica\, Arial\, sans-serif\; font-size: 14px\;">Please join my meeting from your computer\, tablet or smartphone.</b><br style="color: rgb(37\, 40\, 45)\; font-family: lato-regular\, &quot\;Helvetica Neue&quot\;\, Helvetica\, Arial\, sans-serif\; font-size: 14px\;" />\n<span class="inv-meeting-url" style="color: rgb(37\, 40\, 45)\; font-family: lato-regular\, &quot\;Helvetica Neue&quot\;\, Helvetica\, Arial\, sans-serif\; font-size: 14px\;"><a href="https://global.gotomeeting.com/join/372231949" target="_blank">https://global.gotomeeting.com/join/372231949</a></span><br style="color: rgb(37\, 40\, 45)\; font-family: lato-regular\, &quot\;Helvetica Neue&quot\;\, Helvetica\, Arial\, sans-serif\; font-size: 14px\;" />\n<br style="color: rgb(37\, 40\, 45)\; font-family: lato-regular\, &quot\;Helvetica Neue&quot\;\, Helvetica\, Arial\, sans-serif\; font-size: 14px\;" />\n<b style="color: rgb(37\, 40\, 45)\; font-family: lato-regular\, &quot\;Helvetica Neue&quot\;\, Helvetica\, Arial\, sans-serif\; font-size: 14px\;">You can also dial in using your phone.</b><br style="color: rgb(37\, 40\, 45)\; font-family: lato-regular\, &quot\;Helvetica Neue&quot\;\, Helvetica\, Arial\, sans-serif\; font-size: 14px\;" />\n<span style="color: rgb(37\, 40\, 45)\; font-family: lato-regular\, &quot\;Helvetica Neue&quot\;\, Helvetica\, Arial\, sans-serif\; font-size: 14px\;">United States:&nbsp\;<a href="tel:+15713173122\,\,372231949#">+1 (571) 317-3122</a></span><br style="color: rgb(37\, 40\, 45)\; font-family: lato-regular\, &quot\;Helvetica Neue&quot\;\, Helvetica\, Arial\, sans-serif\; font-size: 14px\;" />\n<br style="color: rgb(37\, 40\, 45)\; font-family: lato-regular\, &quot\;Helvetica Neue&quot\;\, Helvetica\, Arial\, sans-serif\; font-size: 14px\;" />\n<span style="color: rgb(37\, 40\, 45)\; font-family: lato-regular\, &quot\;Helvetica Neue&quot\;\, Helvetica\, Arial\, sans-serif\; font-size: 14px\;"><b>Access Code:</b>&nbsp\;372-231-949</span><br style="color: rgb(37\, 40\, 45)\; font-family: lato-regular\, &quot\;Helvetica Neue&quot\;\, Helvetica\, Arial\, sans-serif\; font-size: 14px\;" />\n<br style="color: rgb(37\, 40\, 45)\; font-family: lato-regular\, &quot\;Helvetica Neue&quot\;\, Helvetica\, Arial\, sans-serif\; font-size: 14px\;" />\n<span style="color: rgb(37\, 40\, 45)\; font-family: lato-regular\, &quot\;Helvetica Neue&quot\;\, Helvetica\, Arial\, sans-serif\; font-size: 14px\;">New to GoToMeeting? Get the app now and be ready when your first meeting starts:<br />\n<a href="https://global.gotomeeting.com/install/372231949" target="_blank">https://global.gotomeeting.com/install/372231949</a></span>
LOCATION:
UID:e.1432.402828
SEQUENCE:3
DTSTAMP:20260419T220356Z
URL:http://business.etowahchamber.org/events/details/advancing-women-to-the-top-web-meeting-402828
END:VEVENT

END:VCALENDAR
