BEGIN:VCALENDAR
VERSION:2.0
PRODID:-//ChamberMaster//Event Calendar 2.0//EN
METHOD:PUBLISH
X-PUBLISHED-TTL:P3D
REFRESH-INTERVAL:P3D
CALSCALE:GREGORIAN
BEGIN:VEVENT
DTSTART:20191211T143000Z
DTEND:20191211T223000Z
X-MICROSOFT-CDO-ALLDAYEVENT:FALSE
SUMMARY:AIDT One Day Leadership Skills 3 Training Program
DESCRIPTION:The mission of AIDT is to provide quality workforce development for Alabama's new and expanding businesses\, and to expand the opportunities of it's citizens through the jobs these businesses create.\n\n\n\nAll participants in this class MUST have completed the LS1 & LS2 Training before taking LS3.\n\n\n\nAIDT encourages economic development through job-specific training.  Training services are offered in many areas to new and expanding businesses throughout the State.  \n\n\n\nClick Here for the Leadership Skills 3 Outline\n\n\n\nIn this one day training session you will be learning how to continue building your leadership skills.  Some of the topics of discussion will be:  Leading the Human Resource\, Leader Responsibilities\, Improving Work Relationships\, Communication\, Motivation\, Time Management\, Stress Management\, Performance Appraisals\, Conflict Management and many other topics relating to leadership skills.
X-ALT-DESC;FMTTYPE=text/html:<span style="font-size:16px\;"><span style="font-family:arial\;">The mission of AIDT is to provide quality workforce development for Alabama&#39\;s new and expanding businesses\, and to expand the opportunities of it&#39\;s citizens through the jobs these businesses create.</span></span><br />\n<br />\n<u style="font-family: arial\; font-size: 18px\;"><span style="background-color: rgb(255\, 255\, 0)\;">All participants in this class&nbsp\;</span><strong><span style="background-color: rgb(255\, 255\, 0)\;">MUST</span></strong><span style="background-color: rgb(255\, 255\, 0)\;">&nbsp\;have completed the&nbsp\;LS1&nbsp\;&amp\; LS2 Training before taking LS3.</span></u><br />\n<br />\n<span style="font-size:16px\;"><span style="font-family:arial\;">AIDT encourages economic development through job-specific training. &nbsp\;Training services are offered in many areas to new and expanding businesses throughout the State. &nbsp\;<br />\n<br />\n<strong><a href="https://www.aidt.edu/leadership-skills-3-outline/"><span style="color:#0000FF\;">Click Here for the Leadership Skills 3 Outline</span></a></strong><br />\n<br />\nIn this one day training session you will be learning how to continue building your leadership skills. &nbsp\;Some of the topics of discussion will be: <strong>&nbsp\;</strong><em><strong>Leading the Human Resource\, Leader Responsibilities\, Improving Work Relationships\, Communication\, Motivation\, Time Management\, Stress Management\, Performance Appraisals\, Conflict Management </strong></em><strong>and many other topics</strong> relating to leadership skills.</span></span>
LOCATION:Chamber Board Room
UID:e.1432.398714
SEQUENCE:3
DTSTAMP:20260420T041539Z
URL:http://business.etowahchamber.org/events/details/aidt-one-day-leadership-skills-3-training-program-398714
END:VEVENT

END:VCALENDAR
