BEGIN:VCALENDAR
VERSION:2.0
PRODID:-//ChamberMaster//Event Calendar 2.0//EN
METHOD:PUBLISH
X-PUBLISHED-TTL:P3D
REFRESH-INTERVAL:P3D
CALSCALE:GREGORIAN
BEGIN:VEVENT
DTSTART;VALUE=DATE:20150309
DTEND;VALUE=DATE:20150312
TRANSP:TRANSPARENT
X-MICROSOFT-CDO-ALLDAYEVENT:TRUE
SUMMARY:Alabama Bandmasters Music Performance Assessments
DESCRIPTION:Alabama Bandmasters Music Performance Assessments\n\n(rescheduled from February)\n\nDistrict II Bands from BLOUNT\, CALHOUN\, CHEROKEE\, CLAY\, CLEBURNE\, DEKALB\, ETOWAH\, JACKSON\, MARSHALL\, ST. CLAIR\, AND TALLADEGA COUNTIES\n\nBands will perform two or three pieces of music from a list compiled by the ABA. The bands will be critiqued for their performance of these compositions and judged\, off stage\, on a sight-read composition.\n\n\n\nThe Titan Concert and Symphonic bands received a "1" for their performances in last year's MPA.  Time of performance for participating bands has not yet been established. For more information about MPA district II\, please refer to the district's WEB page at: http://www.abadistrict2.blogspot.com/
X-ALT-DESC;FMTTYPE=text/html:<span style="font-size:14px\;"><span style="font-family:arial\;">Alabama Bandmasters Music Performance Assessments<br />\n(rescheduled from February)</span></span>\n\n<p style="color: rgb(0\, 0\, 0)\; font-family: 'Times New Roman'\; font-size: medium\; line-height: normal\;"><span style="font-size:14px\;"><span style="font-family:arial\;">District II Bands from<span class="style8">&nbsp\;BLOUNT\, CALHOUN\, CHEROKEE\, CLAY\, CLEBURNE\, DEKALB\, ETOWAH\, JACKSON\, MARSHALL\, ST. CLAIR\, AND TALLADEGA COUNTIES</span></span></span></p>\n\n<p style="color: rgb(0\, 0\, 0)\; font-family: 'Times New Roman'\; font-size: medium\; line-height: normal\;"><span style="font-size:14px\;"><span style="font-family:arial\;">Bands will perform two or three pieces of music from a list compiled by the ABA. The bands will be critiqued for their performance of these compositions and judged\, off stage\, on a sight-read composition.<br />\n<br />\nThe Titan Concert and Symphonic bands received a &ldquo\;1&rdquo\; for their performances in last year&rsquo\;s MPA.&nbsp\; Time of performance for participating bands has not yet been established. For more information about MPA district II\, please refer to the district&#39\;s WEB page at:&nbsp\;<a href="http://www.abadistrict2.blogspot.com/" target="_blank">http://www.abadistrict2.blogspot.com/</a></span></span></p>\n
LOCATION:Gadsden City High School Auditorium
UID:e.1432.385653
SEQUENCE:3
DTSTAMP:20260422T064141Z
URL:http://business.etowahchamber.org/events/details/alabama-bandmasters-music-performance-assessments-03-09-2015-385653
END:VEVENT

END:VCALENDAR
