BEGIN:VCALENDAR
VERSION:2.0
PRODID:-//ChamberMaster//Event Calendar 2.0//EN
METHOD:PUBLISH
X-PUBLISHED-TTL:P3D
REFRESH-INTERVAL:P3D
CALSCALE:GREGORIAN
BEGIN:VEVENT
DTSTART:20140823T120000Z
DTEND:20140823T190000Z
X-MICROSOFT-CDO-ALLDAYEVENT:FALSE
SUMMARY:Alabama Teachers Credit Union presents The James M. Barrie Center for Children Kickoff Classic for the Kids
DESCRIPTION:Kickoff Classic for the Kids\n\nSaturday\, August 23rd\, 2014\n\nTwin Bridges Golf Course\n\n \n\n$3\,000 Guaranteed Cash Purse\n\n1st Place - $900\n\n2nd Place - $600\n\n5th\, 10th\, 15th\, 20th and 25th - $300 \n\n \n\n3 Man Scramble Format   2 Teams/Hole for Accurate Scoring\n\nNO MULLIGANS!  \n\nClosest to the Pin/Longest Drive Prizes\n\nCompetitions All Over the Course!\n\n \n\nCost - $240/3 Man Team\n\n \n\nCheck-In: 7am   Biscuit and Juice for Breakfast\n\nShotgun Start:  8am\n\nLunch and Awards Ceremony immediately following end of play\n\n\n\nGoodie Bags and Door Prizes!
X-ALT-DESC;FMTTYPE=text/html:<span style="font-size:14px\;"><strong><em><span style="color:black\;"><span style="font-family:times new roman\,serif\;">Kickoff Classic for the Kids</span></span></em></strong><br />\n<strong><span style="color:black\;"><span style="font-family:times new roman\,serif\;">Saturday\, August 23rd\, 2014</span></span></strong><br />\n<strong><span style="color:black\;"><span style="font-family:times new roman\,serif\;">Twin Bridges Golf Course</span></span></strong><br />\n&nbsp\;<br />\n<strong><u><span style="color:black\;"><span style="font-family:arial black\,sans-serif\;">$3\,000 </span></span></u></strong><u><span style="color:black\;"><span style="font-family:arial black\,sans-serif\;">Guaranteed<strong> Cash Purse</strong></span></span></u><br />\n<strong><u><span style="color:black\;"><span style="font-family:arial black\,sans-serif\;">1</span></span></u></strong><strong><u><sup><span style="color:black\;"><span style="font-family:arial black\,sans-serif\;">st</span></span></sup></u></strong><strong><u><span style="color:black\;"><span style="font-family:arial black\,sans-serif\;"> Place - $900</span></span></u></strong><br />\n<strong><u><span style="color:black\;"><span style="font-family:arial black\,sans-serif\;">2</span></span></u></strong><strong><u><sup><span style="color:black\;"><span style="font-family:arial black\,sans-serif\;">nd</span></span></sup></u></strong><strong><u><span style="color:black\;"><span style="font-family:arial black\,sans-serif\;"> Place - $600</span></span></u></strong><br />\n<strong><u><span style="color:black\;"><span style="font-family:arial black\,sans-serif\;">5</span></span></u></strong><strong><u><sup><span style="color:black\;"><span style="font-family:arial black\,sans-serif\;">th</span></span></sup></u></strong><strong><u><span style="color:black\;"><span style="font-family:arial black\,sans-serif\;">\, </span></span></u></strong><strong><u><span style="color:black\;"><span style="font-family:arial black\,sans-serif\;">10</span></span></u></strong><strong><u><sup><span style="color:black\;"><span style="font-family:arial black\,sans-serif\;">th</span></span></sup></u></strong><strong><u><span style="color:black\;"><span style="font-family:arial black\,sans-serif\;">\, </span></span></u></strong><strong><u><span style="color:black\;"><span style="font-family:arial black\,sans-serif\;">15</span></span></u></strong><strong><u><sup><span style="color:black\;"><span style="font-family:arial black\,sans-serif\;">th</span></span></sup></u></strong><strong><u><span style="color:black\;"><span style="font-family:arial black\,sans-serif\;">\, </span></span></u></strong><strong><u><span style="color:black\;"><span style="font-family:arial black\,sans-serif\;">20</span></span></u></strong><strong><u><sup><span style="color:black\;"><span style="font-family:arial black\,sans-serif\;">th</span></span></sup></u></strong><strong><u><span style="color:black\;"><span style="font-family:arial black\,sans-serif\;"> and </span></span></u></strong><strong><u><span style="color:black\;"><span style="font-family:arial black\,sans-serif\;">25</span></span></u></strong><strong><u><sup><span style="color:black\;"><span style="font-family:arial black\,sans-serif\;">th</span></span></sup></u></strong><strong><u><span style="color:black\;"><span style="font-family:arial black\,sans-serif\;"> - $300 </span></span></u></strong><br />\n&nbsp\;<br />\n<strong><u><span style="color:black\;"><span style="font-family:arial black\,sans-serif\;">3 Man Scramble Format &ndash\; 2 Teams/Hole for Accurate Scoring</span></span></u></strong><br />\n<strong><u><span style="color:black\;"><span style="font-family:arial black\,sans-serif\;">NO MULLIGANS! &nbsp\;</span></span></u></strong><br />\n<strong><u><span style="color:black\;"><span style="font-family:arial black\,sans-serif\;">Closest to the Pin/Longest Drive Prizes</span></span></u></strong><br />\n<strong><u><span style="color:black\;"><span style="font-family:arial black\,sans-serif\;">Competitions All Over the Course!</span></span></u></strong><br />\n&nbsp\;<br />\n<strong><span style="color:black\;"><span style="font-family:arial black\,sans-serif\;">Cost - $240/3 Man Team</span></span></strong><br />\n&nbsp\;<br />\n<strong><span style="color:black\;"><span style="font-family:arial black\,sans-serif\;">Check-In: 7am &ndash\; Biscuit and Juice for Breakfast</span></span></strong><br />\n<strong><span style="color:black\;"><span style="font-family:arial black\,sans-serif\;">Shotgun Start: &nbsp\;8am</span></span></strong><br />\n<strong><span style="color:black\;"><span style="font-family:arial black\,sans-serif\;">Lunch and Awards Ceremony immediately following end of play</span></span></strong><br />\n<br />\n<strong><span style="color:black\;"><span style="font-family:arial black\,sans-serif\;">Goodie Bags and Door Prizes!</span></span></strong></span>
LOCATION:Twin Bridges Golf Course
UID:e.1432.384898
SEQUENCE:3
DTSTAMP:20260422T161420Z
URL:http://business.etowahchamber.org/events/details/alabama-teachers-credit-union-presents-the-james-m-barrie-center-for-children-kickoff-classic-for-the-kids-08-23-2014-384898
END:VEVENT

END:VCALENDAR
