BEGIN:VCALENDAR
VERSION:2.0
PRODID:-//ChamberMaster//Event Calendar 2.0//EN
METHOD:PUBLISH
X-PUBLISHED-TTL:P3D
REFRESH-INTERVAL:P3D
CALSCALE:GREGORIAN
BEGIN:VEVENT
DTSTART:20140716T130000Z
DTEND:20140716T210000Z
X-MICROSOFT-CDO-ALLDAYEVENT:FALSE
SUMMARY:Alabama Training Electrical Code Training Workshop
DESCRIPTION:The Alabama Electrical Contractors Board requires that all licensed electrical contractors obtain 14 hours of continuing education credits every two years.  (NOTE: Journeyman Licensees have been temporarily exempted from the CE requirement.  Please visit theAECB's official website for the latest information.)  Alabama Training's Code Workshop is updated each year with the latest NEC requirements and business trends. By attending the Code Workshop once a year\, you will be fulfilling the requirement.\n\n\n\nAlabama Training helps contractors across the state get continuing education with the least impact on their business and personal lives.  We understand how valuable your time is\, so we created a class structure that will provide the information and credit hours you need\, without any testing\, allowing for the least disturbance to your workflow.\n\n \n\nOur one day workshops contain 7 hours of AECB approved continuing education credits. The material is specific to the local area\, and the class will also include some discussion about the current business climate and how to survive - and even thrive - in this economy.
X-ALT-DESC;FMTTYPE=text/html:<p style="margin: 0px\; padding: 0px\; color: rgb(94\, 105\, 103)\; font-size: 16px\; font-family: arial\; line-height: normal\; text-align: justify\;"><span style="letter-spacing: 0px\;"><font color="#000000">The Alabama Electrical Contractors Board requires that all licensed electrical contractors obtain 14 hours of continuing education credits every two years. &nbsp\;(<i>NOTE: Journeyman Licensees have been temporarily exempted from the CE requirement. &nbsp\;Please visit the<a href="http://www.aecb.state.al.us/" style="color: rgb(32\, 120\, 103)\;" target="_blank">AECB&#39\;s</a><a href="http://www.aecb.state.al.us/" style="color: rgb(32\, 120\, 103)\;" target="_blank"> official website</a>&nbsp\;for the latest information.) &nbsp\;</i>Alabama Training&rsquo\;s Code Workshop is updated each year with the latest NEC requirements and business trends. By attending the Code Workshop once a year\, you will be fulfilling the requirement.<br />\n<br />\nAlabama Training helps contractors across the state get continuing education with the least impact on their business and personal lives. &nbsp\;We understand how valuable your time is\, so we created a class structure that will provide the information and credit hours you need\, without any testing\, allowing for the least disturbance to your workflow.</font></span></p>\n\n<p style="margin: 0px\; padding: 0px\; color: rgb(94\, 105\, 103)\; font-size: 16px\; font-family: arial\; line-height: normal\; min-height: 18px\; text-align: justify\;">&nbsp\;</p>\n\n<p style="margin: 0px\; padding: 0px\; color: rgb(94\, 105\, 103)\; font-size: 16px\; font-family: arial\; line-height: normal\; text-align: justify\;"><span style="letter-spacing: 0px\;"><font color="#000000">Our one day workshops contain 7 hours of AECB approved continuing education credits. The material is specific to the local area\, and the class will also include some discussion about the current business climate and how to survive - and even thrive - in this economy.</font></span></p>\n
LOCATION:Comfort Suites Gadsden\, AL 96 Walker St. Gadsden\, AL 35904
UID:e.1432.384458
SEQUENCE:3
DTSTAMP:20260422T171022Z
URL:http://business.etowahchamber.org/events/details/alabama-training-electrical-code-training-workshop-07-16-2014-384458
END:VEVENT

END:VCALENDAR
