BEGIN:VCALENDAR
VERSION:2.0
PRODID:-//ChamberMaster//Event Calendar 2.0//EN
METHOD:PUBLISH
X-PUBLISHED-TTL:P3D
REFRESH-INTERVAL:P3D
CALSCALE:GREGORIAN
BEGIN:VEVENT
DTSTART:20141010T140000Z
DTEND:20141011T210000Z
X-MICROSOFT-CDO-ALLDAYEVENT:FALSE
SUMMARY:Alice Chalmers "G" Round Up Tractor Show
DESCRIPTION:Come celebrate the history of the Allis-Chalmers "G" tractor\, which once was built in Gadsden. The Weiss Lake Power Association along with the city of Gadsden will present the "G" Roundup Antique Tractor Show. Vendors\, all styles of tractors welcome!
X-ALT-DESC;FMTTYPE=text/html:<span style="color: rgb(68\, 68\, 68)\; font-family: 'Open Sans'\, Helvetica\, Arial\, sans-serif\; font-size: 14px\; line-height: 24px\;">Come celebrate the history of the Allis-Chalmers &ldquo\;G&rdquo\; tractor\, which once was built in Gadsden. The Weiss Lake Power Association along with the city of Gadsden will present the &ldquo\;G&rdquo\; Roundup Antique Tractor Show. Vendors\, all styles of tractors welcome!</span>
LOCATION:Noccalula Falls Campgrounds 1600 Noccalula Road\, Gadsden\, AL 35904
UID:e.1432.384269
SEQUENCE:3
DTSTAMP:20260422T132218Z
URL:http://business.etowahchamber.org/events/details/alice-chalmers-g-round-up-tractor-show-10-10-2014-384269
END:VEVENT

END:VCALENDAR
