BEGIN:VCALENDAR
VERSION:2.0
PRODID:-//ChamberMaster//Event Calendar 2.0//EN
METHOD:PUBLISH
X-PUBLISHED-TTL:P3D
REFRESH-INTERVAL:P3D
CALSCALE:GREGORIAN
BEGIN:VEVENT
DTSTART:20130511T140000Z
DTEND:20130511T170000Z
X-MICROSOFT-CDO-ALLDAYEVENT:FALSE
SUMMARY:All Star Team Selecitions at ACE Cheer company
DESCRIPTION:We are hosting All-Star Team Selections for the new Cheer season.  Team Selections will be held at the gym in Rainbow City on Saturday\, May 11 beginning at 9AM.  All ages\, all skills\, all levels---All ACE...everyone makes a team.
X-ALT-DESC;FMTTYPE=text/html:<span style="color: black\; font-family: &quot\;Times New Roman&quot\;\,&quot\;serif&quot\;\; font-size: 12pt\; mso-fareast-font-family: Calibri\; mso-fareast-theme-font: minor-latin\; mso-ansi-language: EN-US\; mso-fareast-language: EN-US\; mso-bidi-language: AR-SA\;">We are hosting All-Star Team Selections for the new Cheer season.&nbsp\; Team Selections will be held at the gym in Rainbow City on Saturday\, May 11 beginning at 9AM.&nbsp\; All ages\, all skills\, all levels---All ACE...everyone makes a team.</span>
LOCATION:the gym in Rainbow City
UID:e.1432.383181
SEQUENCE:3
DTSTAMP:20260423T095214Z
URL:http://business.etowahchamber.org/events/details/all-star-team-selecitions-at-ace-cheer-company-05-11-2013-383181
END:VEVENT

END:VCALENDAR
