BEGIN:VCALENDAR
VERSION:2.0
PRODID:-//ChamberMaster//Event Calendar 2.0//EN
METHOD:PUBLISH
X-PUBLISHED-TTL:P3D
REFRESH-INTERVAL:P3D
CALSCALE:GREGORIAN
BEGIN:VEVENT
DTSTART:20120721T150000Z
DTEND:20120721T170000Z
X-MICROSOFT-CDO-ALLDAYEVENT:FALSE
SUMMARY:Altrusa is Stuffing Totes for End of Summer Reading Program
DESCRIPTION:Altrusa will be stuffing 400 canvas totes for the end of the summer reading program. They will furnish candy\, bottled water and stuffers.
X-ALT-DESC;FMTTYPE=text/html:Altrusa will be stuffing 400 canvas totes for the end of the summer reading program. They will furnish candy\, bottled water and stuffers. &nbsp\;
LOCATION:Gadsden Public Library
UID:e.1432.381904
SEQUENCE:3
DTSTAMP:20260422T203644Z
URL:http://business.etowahchamber.org/events/details/altrusa-is-stuffing-totes-for-end-of-summer-reading-program-07-21-2012-381904
END:VEVENT

END:VCALENDAR
