BEGIN:VCALENDAR
VERSION:2.0
PRODID:-//ChamberMaster//Event Calendar 2.0//EN
METHOD:PUBLISH
X-PUBLISHED-TTL:P3D
REFRESH-INTERVAL:P3D
CALSCALE:GREGORIAN
BEGIN:VEVENT
DTSTART:20120912T123000Z
DTEND:20120912T210000Z
X-MICROSOFT-CDO-ALLDAYEVENT:FALSE
SUMMARY:Andy Chaffin Diabetes and Renal Disease Summit
DESCRIPTION:As many Americans struggle with diabetes and renal disease\, Quality of Life Health Services strives to educate the community on prevention and proper care for those suffering from these issues.  Area health care professionals will address the way diabetes affects every area of one's health. From risk factors to disease management\, the doctors will educate participants on living a healthy lifestyle. Health care professionals can earn seven (7) contact hours for a cost of $35\, but the event is free to patients\, caregivers\, and the community. Door prizes will be given away\, and there will be vendors present as well.
X-ALT-DESC;FMTTYPE=text/html:<p class="MsoNormal" style="margin: 0in 0in 0pt">\n	<span lang="EN" style="font-family: 'arial'\, 'sans-serif'\; color: #222222\; font-size: 9pt\; mso-ansi-language: en">As many Americans struggle with diabetes and renal disease\, Quality of Life Health Services strives to educate the community on prevention and proper care for those suffering from these issues.&nbsp\; Area health care professionals will address the way diabetes affects every area of one&#39\;s health. From risk factors to disease management\, the doctors will educate&nbsp\;participants on living a healthy lifestyle.&nbsp\;Health care professionals can earn seven (7) contact hours for a cost of $35\, but the event is free to patients\, caregivers\, and the community. Door prizes will be given away\, and there will be vendors present as well</span>. &nbsp\;</p>\n
LOCATION:Gadsden Convention Hall
UID:e.1432.382138
SEQUENCE:3
DTSTAMP:20260422T231656Z
URL:http://business.etowahchamber.org/events/details/andy-chaffin-diabetes-and-renal-disease-summit-09-12-2012-382138
END:VEVENT

END:VCALENDAR
