BEGIN:VCALENDAR
VERSION:2.0
PRODID:-//ChamberMaster//Event Calendar 2.0//EN
METHOD:PUBLISH
X-PUBLISHED-TTL:P3D
REFRESH-INTERVAL:P3D
CALSCALE:GREGORIAN
BEGIN:VEVENT
DTSTART:20121202T013000Z
DTEND:20121202T013000Z
X-MICROSOFT-CDO-ALLDAYEVENT:FALSE
SUMMARY:Annie The Musical
DESCRIPTION:
X-ALT-DESC;FMTTYPE=text/html:
LOCATION:Wallace Hall Fine Arts Center
UID:e.1432.382873
SEQUENCE:3
DTSTAMP:20260423T031531Z
URL:http://business.etowahchamber.org/events/details/annie-the-musical-12-01-2012-382873
END:VEVENT

END:VCALENDAR
