BEGIN:VCALENDAR
VERSION:2.0
PRODID:-//ChamberMaster//Event Calendar 2.0//EN
METHOD:PUBLISH
X-PUBLISHED-TTL:P3D
REFRESH-INTERVAL:P3D
CALSCALE:GREGORIAN
BEGIN:VEVENT
DTSTART:20130809T150000Z
DTEND:20130810T230000Z
X-MICROSOFT-CDO-ALLDAYEVENT:FALSE
SUMMARY:Annual Sidewalk/Yard Sale on Broad in Downtown Gadsden
DESCRIPTION:Shop Local and enjoy all the many benefits. Come out and join us for this Super Sale Day in Historic Downtown Gadsden\, Broad /Beyond. Find great back to school sales\, gifts for any occasion\; enjoy food from the many eateries\, drinks on each block to keep you cool. Enjoy shopping up and down the sidewalks of Broad for two special days. Plan a shopping date with your friends and come on down. We will have all types of items for sale. Sidewalk/Yard sale items in front of local stores and businesses\, find out about the different retail stores\, boutiques\, businesses\, eatery\, banks\, antique malls\, work out gym\, yes\, we have it all right here on Broad/Beyond. \n\n\n\n    BIG SUPER SALE DAY COME JOIN US!
X-ALT-DESC;FMTTYPE=text/html:Shop Local and enjoy all the many benefits. Come out and join us for this Super Sale Day in Historic Downtown Gadsden\, Broad /Beyond. Find great back to school sales\, gifts for any occasion\; enjoy food from the many eateries\, drinks on each block to keep you cool. Enjoy shopping up and down the sidewalks of Broad for two special days. Plan a shopping date with your friends and come on down. We will have all types of items for sale. Sidewalk/Yard sale items in front of local stores and businesses\, find out about the different retail stores\, boutiques\, businesses\, eatery\, banks\, antique malls\, work out gym\, yes\, we have it all right here on Broad/Beyond.&nbsp\;<br />\n<br />\n&nbsp\; &nbsp\; BIG SUPER SALE DAY COME JOIN US!
LOCATION:Downtown Gadsden
UID:e.1432.383794
SEQUENCE:3
DTSTAMP:20260423T075352Z
URL:http://business.etowahchamber.org/events/details/annual-sidewalk-yard-sale-on-broad-in-downtown-gadsden-08-09-2013-383794
END:VEVENT

END:VCALENDAR
