BEGIN:VCALENDAR
VERSION:2.0
PRODID:-//ChamberMaster//Event Calendar 2.0//EN
METHOD:PUBLISH
X-PUBLISHED-TTL:P3D
REFRESH-INTERVAL:P3D
CALSCALE:GREGORIAN
BEGIN:VEVENT
DTSTART;VALUE=DATE:20200920
DTEND;VALUE=DATE:20200921
TRANSP:TRANSPARENT
X-MICROSOFT-CDO-ALLDAYEVENT:TRUE
SUMMARY:Art on the Rocks
DESCRIPTION:"Art on the Rocks at the Falls" is an opportunity for local and regional artists and crafters to share their talent in Northeast Alabama.\n\n\n\nAlong with the arts and crafts show that weekend\, you will also be able to enjoy all the other attractions at the park such as the train ride\, petting zoo\, Pioneer Village\, gardens\, hiking trails and Noccalula Falls itself.
X-ALT-DESC;FMTTYPE=text/html:<span style="font-size:16px\;"><span style="font-family:arial\;">&ldquo\;Art on the Rocks at the Falls&rdquo\; is an opportunity for local and regional artists and crafters to share their talent in Northeast Alabama.<br />\n<br />\nAlong with the arts and crafts show that weekend\, you will also be able to enjoy all the other attractions at the park such as the train ride\, petting zoo\, Pioneer Village\, gardens\, hiking trails and Noccalula Falls itself.</span></span>
LOCATION:Noccalula Falls Park
UID:e.1432.403273
SEQUENCE:3
DTSTAMP:20260419T153609Z
URL:http://business.etowahchamber.org/events/details/art-on-the-rocks-09-20-2020-403273
END:VEVENT

END:VCALENDAR
