BEGIN:VCALENDAR
VERSION:2.0
PRODID:-//ChamberMaster//Event Calendar 2.0//EN
METHOD:PUBLISH
X-PUBLISHED-TTL:P3D
REFRESH-INTERVAL:P3D
CALSCALE:GREGORIAN
BEGIN:VEVENT
DTSTART:20200402T150000Z
DTEND:20200402T160000Z
X-MICROSOFT-CDO-ALLDAYEVENT:FALSE
SUMMARY:Ask a Superintendent with Tony Reddick
DESCRIPTION:Tune in to the @etowahchamber Facebook page on Thursday\, April 2nd for a live update with Gadsden City Schools Superintendent Tony Reddick! There will be an open forum for questions through the comment section!
X-ALT-DESC;FMTTYPE=text/html:Tune in to the @etowahchamber Facebook page on Thursday\, April 2nd for a live update with Gadsden City Schools Superintendent Tony Reddick! There will be an open forum for questions through the comment section!
LOCATION:Facebook Live @etowahchamber
UID:e.1432.402815
SEQUENCE:3
DTSTAMP:20260419T215857Z
URL:http://business.etowahchamber.org/events/details/ask-a-superintendent-with-tony-reddick-402815
END:VEVENT

END:VCALENDAR
