BEGIN:VCALENDAR
VERSION:2.0
PRODID:-//ChamberMaster//Event Calendar 2.0//EN
METHOD:PUBLISH
X-PUBLISHED-TTL:P3D
REFRESH-INTERVAL:P3D
CALSCALE:GREGORIAN
BEGIN:VEVENT
DTSTART:20190718T180000Z
DTEND:20190718T230000Z
X-MICROSOFT-CDO-ALLDAYEVENT:FALSE
SUMMARY:Attalla Farmers Market
DESCRIPTION:Attalla's Farmer's Market featuring fruits\, vegetables\, and jellies! They are located at the intersection of Hwy 11 and Hwy 431 3rd Street NW\, next to the underpass.\n\n\n\nOpen every Thursday from 1 PM-6 PM May thru October.
X-ALT-DESC;FMTTYPE=text/html:<span style="font-size:16px\;"><span style="font-family:arial\;">Attalla&#39\;s Farmer&#39\;s Market featuring fruits\, vegetables\, and jellies! They are located at the intersection of Hwy 11 and Hwy 431 3rd Street NW\, next to the underpass.<br />\n<br />\nOpen every Thursday from 1 PM-6 PM May thru October.</span></span>
LOCATION:Intersection of Highway 11 and Highway 431(next to the underpass) Attalla\, AL 35954
UID:e.1432.401229
SEQUENCE:3
DTSTAMP:20260422T053546Z
URL:http://business.etowahchamber.org/events/details/attalla-farmers-market-07-18-2019-401229
END:VEVENT

END:VCALENDAR
