BEGIN:VCALENDAR
VERSION:2.0
PRODID:-//ChamberMaster//Event Calendar 2.0//EN
METHOD:PUBLISH
X-PUBLISHED-TTL:P3D
REFRESH-INTERVAL:P3D
CALSCALE:GREGORIAN
BEGIN:VEVENT
DTSTART;VALUE=DATE:20141018
DTEND;VALUE=DATE:20141019
TRANSP:TRANSPARENT
X-MICROSOFT-CDO-ALLDAYEVENT:TRUE
SUMMARY:Attalla Heritage Day
DESCRIPTION:Heritage Day will feature music\, arts\, crafts\, entertainment\, and vendors.
X-ALT-DESC;FMTTYPE=text/html:<span style="color: rgb(68\, 68\, 68)\; font-family: 'Open Sans'\, Helvetica\, Arial\, sans-serif\; font-size: 14px\; line-height: 24px\;">Heritage Day will feature music\, arts\, crafts\, entertainment\, and vendors.</span>
LOCATION:Downtown Attalla 4th Street Northwest Attalla\, AL 35954
UID:e.1432.384272
SEQUENCE:3
DTSTAMP:20260422T144650Z
URL:http://business.etowahchamber.org/events/details/attalla-heritage-day-10-18-2014-384272
END:VEVENT

END:VCALENDAR
