BEGIN:VCALENDAR
VERSION:2.0
PRODID:-//ChamberMaster//Event Calendar 2.0//EN
METHOD:PUBLISH
X-PUBLISHED-TTL:P3D
REFRESH-INTERVAL:P3D
CALSCALE:GREGORIAN
BEGIN:VEVENT
DTSTART:20121020T140000Z
DTEND:20121020T220000Z
X-MICROSOFT-CDO-ALLDAYEVENT:FALSE
SUMMARY:Attalla Heritage Day
DESCRIPTION:Attalla Heritage Day in Historic Downtown Attalla...ADMISSION IS FREE!  Entertainment for all ages!  Enjoy great music\, Childrens Rides\, Open Car Show\,  and more.  No Pets or Golf Carts Please...  (Rain or Shine)\n\n\n\nFor More Information call 256-538-9266
X-ALT-DESC;FMTTYPE=text/html:Attalla Heritage Day in Historic Downtown Attalla...ADMISSION IS FREE! &nbsp\;Entertainment for all ages! &nbsp\;Enjoy great music\, Childrens Rides\, Open Car Show\, &nbsp\;and more. &nbsp\;No Pets or Golf Carts Please... &nbsp\;(Rain or Shine)<br />\n<br />\nFor More Information call 256-538-9266
LOCATION:Historic Downtown Attalla
UID:e.1432.382764
SEQUENCE:3
DTSTAMP:20260423T020143Z
URL:http://business.etowahchamber.org/events/details/attalla-heritage-day-10-20-2012-382764
END:VEVENT

END:VCALENDAR
