BEGIN:VCALENDAR
VERSION:2.0
PRODID:-//ChamberMaster//Event Calendar 2.0//EN
METHOD:PUBLISH
X-PUBLISHED-TTL:P3D
REFRESH-INTERVAL:P3D
CALSCALE:GREGORIAN
BEGIN:VEVENT
DTSTART:20140907T180000Z
DTEND:20140907T220000Z
X-MICROSOFT-CDO-ALLDAYEVENT:FALSE
SUMMARY:Attalla Treasures in the Streets- Antique Stores Open
DESCRIPTION:Outdoor Antique Show - 100 Street Vendors - Rain or Shine\n\nVendors selling ONLY Antiques\, Collectibles\, Vintage\, & Retro
X-ALT-DESC;FMTTYPE=text/html:Outdoor Antique Show - 100 Street Vendors - Rain or Shine<br />\nVendors selling&nbsp\;<strong><u>ONLY</u></strong>&nbsp\;Antiques\, Collectibles\, Vintage\, &amp\; Retro
LOCATION:Historic Downtown Attalla
UID:e.1432.384881
SEQUENCE:3
DTSTAMP:20260422T143931Z
URL:http://business.etowahchamber.org/events/details/attalla-treasures-in-the-streets-antique-stores-open-09-07-2014-384881
END:VEVENT

END:VCALENDAR
