BEGIN:VCALENDAR
VERSION:2.0
PRODID:-//ChamberMaster//Event Calendar 2.0//EN
METHOD:PUBLISH
X-PUBLISHED-TTL:P3D
REFRESH-INTERVAL:P3D
CALSCALE:GREGORIAN
BEGIN:VEVENT
DTSTART;VALUE=DATE:20121030
DTEND;VALUE=DATE:20121031
TRANSP:TRANSPARENT
X-MICROSOFT-CDO-ALLDAYEVENT:TRUE
SUMMARY:AUCTION - 477 ± Acres Walnut Grove\, AL
DESCRIPTION:Walnut Grove\, AL - Don't miss the opportunity! 477 +/- acres located just minutes to Gadsden or Birmingham\, is an Outdoorsman's dream. Stick Star Plantation has been managed intensively for quail over the past six years and with its abundant wildlife of deer\, turkey\, and waterfowl\, along with its dramatic beauty and land diversity it is truly one of kind.\n\n\n\nSelling in tracts\, combinations\, or as an entirety Tuesday October 30th at 2:00pm. Registration begins at 1:00pm. Call us for more information 800-476-3939
X-ALT-DESC;FMTTYPE=text/html:Walnut Grove\, AL - Don&#39\;t miss the opportunity! 477 +/- acres located just minutes to Gadsden or Birmingham\, is an Outdoorsman&#39\;s dream. Stick Star Plantation has been managed intensively for quail over the past six years and with its abundant wildlife of deer\, turkey\, and waterfowl\, along with its dramatic beauty and land diversity it is truly one of kind.<br />\n<br />\nSelling in tracts\, combinations\, or as an entirety Tuesday October 30th at 2:00pm. Registration begins at 1:00pm. Call us for more information 800-476-3939<br />\n
LOCATION:6198 Murphrees Valley Rd\, Walnut Grove\, AL
UID:e.1432.382818
SEQUENCE:3
DTSTAMP:20260423T003755Z
URL:http://business.etowahchamber.org/events/details/auction-477-acres-walnut-grove-al-10-30-2012-382818
END:VEVENT

END:VCALENDAR
