BEGIN:VCALENDAR
VERSION:2.0
PRODID:-//ChamberMaster//Event Calendar 2.0//EN
METHOD:PUBLISH
X-PUBLISHED-TTL:P3D
REFRESH-INTERVAL:P3D
CALSCALE:GREGORIAN
BEGIN:VEVENT
DTSTART:20130609T160000Z
DTEND:20130609T190000Z
X-MICROSOFT-CDO-ALLDAYEVENT:FALSE
SUMMARY:Autograph Signing Mark Ingram and Eddie Lacy
DESCRIPTION:Mark ingram and Eddie Lacy will be at Flowers by Rita to sign autographs from 11:00 AM until 2:00 PM.
X-ALT-DESC;FMTTYPE=text/html:Mark ingram and Eddie Lacy will be at Flowers by Rita to sign autographs from 11:00 AM until 2:00 PM. 
LOCATION:Flowers by Rita Custom Framing 107 South 5th Street Downtown Gadsden
UID:e.1432.383280
SEQUENCE:3
DTSTAMP:20260423T102922Z
URL:http://business.etowahchamber.org/events/details/autograph-signing-mark-ingram-and-eddie-lacy-06-09-2013-383280
END:VEVENT

END:VCALENDAR
