BEGIN:VCALENDAR
VERSION:2.0
PRODID:-//ChamberMaster//Event Calendar 2.0//EN
METHOD:PUBLISH
X-PUBLISHED-TTL:P3D
REFRESH-INTERVAL:P3D
CALSCALE:GREGORIAN
BEGIN:VEVENT
DTSTART:20201030T170000Z
DTEND:20201031T045500Z
X-MICROSOFT-CDO-ALLDAYEVENT:FALSE
SUMMARY:"Axe of Love" Date Night at Lagatha's House of Axe
DESCRIPTION:Who do you need a night out with?? Your Boo\, Bae\, Bestie or Bro? Grab your favorite partner in crime and come have an AXE-CELLENT time!   \n\n\n\nTake $10 off of Axe Throwing for 2!! Book your lane here: http://lagathashouseofaxe.com/
X-ALT-DESC;FMTTYPE=text/html:<span style="font-size:16px\;"><span style="font-family:arial\;">Who do you need a night out with?? Your Boo\, Bae\, Bestie or Bro? Grab your favorite partner in crime and come have an AXE-CELLENT time! &#129683\;&#127919\;<br />\n<br />\nTake $10 off of Axe Throwing for 2!! Book your lane here: <strong><a href="http://lagathashouseofaxe.com/"><span style="color:#0000FF\;">http://lagathashouseofaxe.com/</span></a></strong></span></span>
LOCATION:Lagatha's House of Axe
UID:e.1432.403505
SEQUENCE:3
DTSTAMP:20260421T082218Z
URL:http://business.etowahchamber.org/events/details/axe-of-love-date-night-at-lagatha-s-house-of-axe-403505
END:VEVENT

END:VCALENDAR
