BEGIN:VCALENDAR
VERSION:2.0
PRODID:-//ChamberMaster//Event Calendar 2.0//EN
METHOD:PUBLISH
X-PUBLISHED-TTL:P3D
REFRESH-INTERVAL:P3D
CALSCALE:GREGORIAN
BEGIN:VEVENT
DTSTART:20140829T120000Z
DTEND:20140830T230000Z
X-MICROSOFT-CDO-ALLDAYEVENT:FALSE
SUMMARY:B&B Pawn and Jewelry 23rd Annual Buy & Sell Trade Day!
DESCRIPTION:Our 23rd Annual Buy & Sell Trade day STARTS August 29th & 30th at our Gadsden Location!! We will have special hours Friday and Saturday from 7am-6pm!! Refreshments will be available!! All Guns & Ammo will be COST PLUS 10%!! Savage Axis XP (Black and camo available)\, 380 Bodygaurd's\, ATI Omni M4's\, Smith and Wesson SD9's and SD40's\, Smith and Wesson Revolvers available in:442\,637\,638\, & 642\, Smith and Wesson Shield available in 9mm & 40cal\, and so much more!! All jewelry excluding fine watches 20%-60% off! S&A Investments will be on site to pay top dollar for any Gold\, Silver\, or Platinum jewlery! Bring anything of value and turn it into cash!! You don't want to miss out on these deals!! Be sure to register for our great Giveaways (2 M&P Smith&Wesson's\, 2 Benelli Shotgun's\, and 2 Diamond Tennis Bracelets!!) Call or come by either location for more information: Anniston (256) 237-4202 or Gadsden (256) 546-4892!
X-ALT-DESC;FMTTYPE=text/html:Our 23rd Annual Buy &amp\; Sell Trade day STARTS August 29th &amp\; 30th at our Gadsden Location!! We will have special hours Friday and Saturday from 7am-6pm!! Refreshments will be available!! All Guns &amp\; Ammo will be COST PLUS 10%!! Savage Axis XP (Black and camo available)\, 380 Bodygaurd&#39\;s\, ATI Omni M4&#39\;s\, Smith and Wesson SD9&#39\;s and SD40&#39\;s\, Smith and Wesson Revolvers available in:442\,637\,638\, &amp\; 642\, Smith and Wesson Shield available in 9mm &amp\; 40cal\, and so much more!! All jewelry excluding fine watches 20%-60% off! S&amp\;A Investments will be on site to pay top dollar for any Gold\, Silver\, or Platinum jewlery! Bring anything of value and turn it into cash!! You don&#39\;t want to miss out on these deals!! Be sure to register for our great Giveaways (2 M&amp\;P Smith&amp\;Wesson&#39\;s\, 2 Benelli Shotgun&#39\;s\, and 2 Diamond Tennis Bracelets!!) Call or come by either location for more information: Anniston (256) 237-4202 or Gadsden (256) 546-4892!
LOCATION:1220 West Meighan Blvd\, Gadsden\, Al 35901
UID:e.1432.384927
SEQUENCE:3
DTSTAMP:20260422T171702Z
URL:http://business.etowahchamber.org/events/details/b-b-pawn-and-jewelry-23rd-annual-buy-sell-trade-day-08-29-2014-384927
END:VEVENT

END:VCALENDAR
