BEGIN:VCALENDAR
VERSION:2.0
PRODID:-//ChamberMaster//Event Calendar 2.0//EN
METHOD:PUBLISH
X-PUBLISHED-TTL:P3D
REFRESH-INTERVAL:P3D
CALSCALE:GREGORIAN
BEGIN:VEVENT
DTSTART:20140807T230000Z
DTEND:20140808T010000Z
X-MICROSOFT-CDO-ALLDAYEVENT:FALSE
SUMMARY:Banquet and Roast of Joanne Hightower
DESCRIPTION:Please join us as we honor\n\n \n\nJoanne Hightower\n\n \n\n 2014 Recipient of the\n\nSpirit of Citizenship Award for Etowah County\n\n \n\nBanquet and Roast will be held on  \n\nThursday\, August 7th\, 2014\n\n6 P.M. at the Senior Activity Center\n\n623 Broad Street\n\nGadsden\, AL\n\n \n\nDinner by the Fish Market Restaurant\n\nTickets are $30.00 each and can be purchased at the\n\nFamily Success Center\, a United Way Agency\n\n821 East Broad Street\n\nGadsden\, AL\n\n\n\nPhone Marie Johnson at 256-547-6888 ext 111 for reservations\n\nTables of 8 may be reserved
X-ALT-DESC;FMTTYPE=text/html:<span style="font-size:16px\;">Please join us as we honor<br />\n&nbsp\;<br />\n<strong><em>Joanne Hightower</em></strong><br />\n&nbsp\;<br />\n&nbsp\;2014 Recipient of the<br />\n<strong>Spirit of Citizenship Award for Etowah County</strong><br />\n&nbsp\;<br />\nBanquet and Roast will be held on &nbsp\;<br />\nThursday\, August 7th\, 2014<br />\n6 P.M. at the Senior Activity Center<br />\n623 Broad Street<br />\nGadsden\, AL<br />\n&nbsp\;<br />\nDinner by the Fish Market Restaurant<br />\nTickets are $30.00 each and can be purchased at the<br />\nFamily Success Center\, <em>a United Way Agency</em><br />\n821 East Broad Street<br />\nGadsden\, AL<br />\n<br />\n<em>Phone Marie Johnson at 256-547-6888 ext 111 for reservations</em><br />\n<em>Tables of 8 may be reserved</em></span>
LOCATION:Senior Activity Center 623 Broad Street Gadsden\, AL
UID:e.1432.384857
SEQUENCE:3
DTSTAMP:20260422T161102Z
URL:http://business.etowahchamber.org/events/details/banquet-and-roast-of-joanne-hightower-08-07-2014-384857
END:VEVENT

END:VCALENDAR
