BEGIN:VCALENDAR
VERSION:2.0
PRODID:-//ChamberMaster//Event Calendar 2.0//EN
METHOD:PUBLISH
X-PUBLISHED-TTL:P3D
REFRESH-INTERVAL:P3D
CALSCALE:GREGORIAN
BEGIN:VEVENT
DTSTART:20120714T120000Z
DTEND:20120714T190000Z
X-MICROSOFT-CDO-ALLDAYEVENT:FALSE
SUMMARY:Bartertown Grand Opening
DESCRIPTION:Come join the fun at Rainbow City's First and Only Indoor Trade Market!\n\n\n\nWGAD Live Broadcast 10-1\n\nFree Food from Chickfila\n\n\n\nPrizes include a one year family membership to Gold's Gym and much more!!!\n\n\n\nVisit us on Facebook.   Find BARTERTOWN and add as your friend.
X-ALT-DESC;FMTTYPE=text/html:Come join the fun at Rainbow City&#39\;s First and Only Indoor Trade Market!<br />\n<br />\nWGAD Live Broadcast 10-1<br />\nFree Food from Chickfila<br />\n<br />\nPrizes include a one year family membership to Gold&#39\;s Gym and much more!!!<br />\n<br />\nVisit us on Facebook.&nbsp\;&nbsp\; Find BARTERTOWN and add as your friend.
LOCATION:805 Steele Station Road Rainbow City\, AL 35904
UID:e.1432.381538
SEQUENCE:3
DTSTAMP:20260422T204503Z
URL:http://business.etowahchamber.org/events/details/bartertown-grand-opening-07-14-2012-381538
END:VEVENT

END:VCALENDAR
