BEGIN:VCALENDAR
VERSION:2.0
PRODID:-//ChamberMaster//Event Calendar 2.0//EN
METHOD:PUBLISH
X-PUBLISHED-TTL:P3D
REFRESH-INTERVAL:P3D
CALSCALE:GREGORIAN
BEGIN:VEVENT
DTSTART:20120810T140000Z
DTEND:20120810T210000Z
X-MICROSOFT-CDO-ALLDAYEVENT:FALSE
SUMMARY:BB&T Happy Birthday Celebration
DESCRIPTION:Happy Birthday to BB&T\n\nFor 140 years\, we've been making the communities in which we work better places to be...So\, let's celebrate!  You're invited to our North Alabama Birthday Celebration!\n\n\n\nFriday\, August 10th\, 2012\n\n9:00am-4:00pm\n\n\n\nBoth Locations Gadsden and Southside
X-ALT-DESC;FMTTYPE=text/html:Happy Birthday to BB&amp\;T<br />\nFor 140 years\, we&#39\;ve been making the communities in which we work better places to be...So\, let&#39\;s celebrate! &nbsp\;You&#39\;re invited to our North Alabama Birthday Celebration!<br />\n<br />\nFriday\, August 10th\, 2012<br />\n9:00am-4:00pm<br />\n<br />\nBoth Locations Gadsden and Southside
LOCATION:Gadsden - 401 Broad Street\, Gadsden AL 35901 Southside - 2020 Hwy 77\, Southside AL 35907
UID:e.1432.381898
SEQUENCE:3
DTSTAMP:20260422T215327Z
URL:http://business.etowahchamber.org/events/details/bb-t-happy-birthday-celebration-08-10-2012-381898
END:VEVENT

END:VCALENDAR
