BEGIN:VCALENDAR
VERSION:2.0
PRODID:-//ChamberMaster//Event Calendar 2.0//EN
METHOD:PUBLISH
X-PUBLISHED-TTL:P3D
REFRESH-INTERVAL:P3D
CALSCALE:GREGORIAN
BEGIN:VEVENT
DTSTART;VALUE=DATE:20140917
DTEND;VALUE=DATE:20140918
TRANSP:TRANSPARENT
X-MICROSOFT-CDO-ALLDAYEVENT:TRUE
SUMMARY:Belk Elite Shopping Day
DESCRIPTION:Special Shopping event just for you\, Wednesday Sept. 17.\n\nVery Limited Exclusions\n\n25% Off! Very limited exclusions Wednesday Sept. 17 regular & sale purchases store wide when you use your Belk Elite Rewards Care.\n\nEarn 5X Points on merchandise purchases when you use your Belk Elite Rewards Card.
X-ALT-DESC;FMTTYPE=text/html:Special Shopping event just for you\,&nbsp\;<strong>Wednesday Sept. 17</strong>.<br />\nVery Limited Exclusions<br />\n25% Off! Very limited exclusions Wednesday Sept. 17 regular &amp\; sale purchases store wide when you use your Belk Elite Rewards Care.<br />\nEarn 5X Points on merchandise purchases when you use your Belk Elite Rewards Card.
LOCATION:Belk in Gadsden Mall
UID:e.1432.384993
SEQUENCE:3
DTSTAMP:20260422T143759Z
URL:http://business.etowahchamber.org/events/details/belk-elite-shopping-day-09-17-2014-384993
END:VEVENT

END:VCALENDAR
