BEGIN:VCALENDAR
VERSION:2.0
PRODID:-//ChamberMaster//Event Calendar 2.0//EN
METHOD:PUBLISH
X-PUBLISHED-TTL:P3D
REFRESH-INTERVAL:P3D
CALSCALE:GREGORIAN
BEGIN:VEVENT
DTSTART:20140808T160000Z
DTEND:20140808T220000Z
X-MICROSOFT-CDO-ALLDAYEVENT:FALSE
SUMMARY:Big Brothers Big Sisters Big Invitational Golf Tournament
DESCRIPTION:This tournament is part of the annual campaign of Big Brothers Big Sisters of Northeast Alabama. All proceeds directly fund our school and community based mentoring programs\, helping children to have higher aspiration\, educational success and avoid risky behaviors.\n\nPlease consider sponsoring our event. Sponsors help keep the tournament entry fee affordable for golfers supporting our event. Golfers will pay $60.00 entry fee that includes- Dinner\, complimentary gift bag and 18 holes of golf.\n\n\n\n1st Place Teams Wins $300\n\n2nd Place Team Wins $200
X-ALT-DESC;FMTTYPE=text/html:This tournament is part of the annual campaign of Big Brothers Big Sisters of Northeast Alabama. All proceeds directly fund our school and community based mentoring programs\, helping children to have higher aspiration\, educational success and avoid risky behaviors.<br />\nPlease consider sponsoring our event. Sponsors help keep the tournament entry fee affordable for golfers supporting our event. Golfers will pay $60.00 entry fee that includes- Dinner\, complimentary gift bag and 18 holes of golf.<br />\n<br />\n1st Place Teams Wins $300<br />\n2nd Place Team Wins $200
LOCATION:Twin Bridges Golf Club 901 Riverbend Drive Gadsden\, AL 35901
UID:e.1432.384603
SEQUENCE:3
DTSTAMP:20260422T171516Z
URL:http://business.etowahchamber.org/events/details/big-brothers-big-sisters-big-invitational-golf-tournament-08-08-2014-384603
END:VEVENT

END:VCALENDAR
