BEGIN:VCALENDAR
VERSION:2.0
PRODID:-//ChamberMaster//Event Calendar 2.0//EN
METHOD:PUBLISH
X-PUBLISHED-TTL:P3D
REFRESH-INTERVAL:P3D
CALSCALE:GREGORIAN
BEGIN:VEVENT
DTSTART;VALUE=DATE:20130211
DTEND;VALUE=DATE:20130212
TRANSP:TRANSPARENT
X-MICROSOFT-CDO-ALLDAYEVENT:TRUE
SUMMARY:Bipolar Disorder Support Group
DESCRIPTION:If you or a loved one has been diagnosed with Bipolar Disorder and you have some unanswered questions\, then this is the group for you.  The group is led by a licensed professional counselor from Mountain View Hospital and is confidential.  Topics will include living with and managing your disorder.  Start living your life\, not your diagnosis!
X-ALT-DESC;FMTTYPE=text/html:If you or a loved one has been diagnosed with Bipolar Disorder and you have some unanswered questions\, then this is the group for you.&nbsp\; The group is led by a licensed professional counselor from Mountain View Hospital and is confidential.&nbsp\; Topics will include living with and managing your disorder.&nbsp\; Start living your life\, not your diagnosis!
LOCATION:Daugette Towers\, downtown Gadsden
UID:e.1432.383062
SEQUENCE:3
DTSTAMP:20260423T055746Z
URL:http://business.etowahchamber.org/events/details/bipolar-disorder-support-group-02-11-2013-383062
END:VEVENT

END:VCALENDAR
