BEGIN:VCALENDAR
VERSION:2.0
PRODID:-//ChamberMaster//Event Calendar 2.0//EN
METHOD:PUBLISH
X-PUBLISHED-TTL:P3D
REFRESH-INTERVAL:P3D
CALSCALE:GREGORIAN
BEGIN:VEVENT
DTSTART:20140808T230000Z
DTEND:20140809T030000Z
X-MICROSOFT-CDO-ALLDAYEVENT:FALSE
SUMMARY:Black Tie & Blue Jeans
DESCRIPTION:Black Tie & Blue Jeans: The Hardin Center's 21st Annual Auction.\n\n	Cocktail Supper\n	Open Bar\n	Silent Auction\n	Live Auction\n	Door Prize & Games\n\nThe attire is casual\, but feel free to dress to our theme. Wear a combination that's not so usual\, like a tuxedo with jeans.\n\nTickets are $40 per person in advance and $50 at the door. Purchase tickets online at culturalarts.org or at the Hardin Center's front desk.\n\n\n\nPlease RSVP by August 1st\, 2014.\n\n\n\nProceeds benefit the programs of the Mary G. Hardin Center for Cultural Arts\, Imagination Place Children's Museum\, the Etowah Youth Orchestras\, and the Gadsden Community School for the Arts.
X-ALT-DESC;FMTTYPE=text/html:Black Tie &amp\; Blue Jeans: The Hardin Center&#39\;s 21st Annual Auction.\n<ul>\n	<li>Cocktail Supper</li>\n	<li>Open Bar</li>\n	<li>Silent Auction</li>\n	<li>Live Auction</li>\n	<li>Door Prize &amp\; Games</li>\n</ul>\nThe attire is casual\, but feel free to dress to our theme. Wear a combination that&#39\;s not so usual\, like a tuxedo with jeans.<br />\nTickets are $40 per person in advance and $50 at the door. Purchase tickets online at culturalarts.org or at the Hardin Center&#39\;s front desk.<br />\n<br />\nPlease RSVP by August 1st\, 2014.<br />\n<br />\nProceeds benefit the programs of the Mary G. Hardin Center for Cultural Arts\, Imagination Place Children&#39\;s Museum\, the Etowah Youth Orchestras\, and the Gadsden Community School for the Arts.
LOCATION:The Hardin Center 501 Broad Street\, Gadsden\, AL 35901
UID:e.1432.384882
SEQUENCE:3
DTSTAMP:20260422T155322Z
URL:http://business.etowahchamber.org/events/details/black-tie-blue-jeans-08-08-2014-384882
END:VEVENT

END:VCALENDAR
