BEGIN:VCALENDAR
VERSION:2.0
PRODID:-//ChamberMaster//Event Calendar 2.0//EN
METHOD:PUBLISH
X-PUBLISHED-TTL:P3D
REFRESH-INTERVAL:P3D
CALSCALE:GREGORIAN
BEGIN:VEVENT
DTSTART:20120628T160000Z
DTEND:20120628T223000Z
X-MICROSOFT-CDO-ALLDAYEVENT:FALSE
SUMMARY:Blood Drive - Gold's Gym
DESCRIPTION:EMERGENCY NEED FOR ALL BLOOD TYPES\n\n	 \n\n\n	\n\n	DO SOMETHING AMAZING\n\n	DONATE BLOOD TODAY\n\n	\n\n	LifeSouth is currently facing an emergency shortage of all blood types.\n\n	\n\n	Visit www.lifesouth.org or call toll-free at 888-795-2707
X-ALT-DESC;FMTTYPE=text/html:<p style="text-align: center">\n	EMERGENCY NEED FOR ALL BLOOD TYPES<br />\n	&nbsp\;</p>\n<hr />\n<p style="text-align: center">\n	<br />\n	DO SOMETHING <strong>AMAZING</strong><br />\n	DONATE BLOOD TODAY<br />\n	<br />\n	LifeSouth is currently facing an emergency shortage of all blood types.<br />\n	<br />\n	Visit <a href="http://www.lifesouth.org">www.lifesouth.org</a> or call toll-free at 888-795-2707</p>\n
LOCATION:200 Market Way\, Gadsden\, AL 35906
UID:e.1432.381532
SEQUENCE:3
DTSTAMP:20260422T192842Z
URL:http://business.etowahchamber.org/events/details/blood-drive-gold-s-gym-06-28-2012-381532
END:VEVENT

END:VCALENDAR
